{"text_format":"3","workbook":"xlsx","n_sheets":2,"sheets":[" Дети до 3 лет","Дети  3-7лет"],"not_rendered":{"images":3,"external_links":2},"read":"whole","date_system":"1900"}

{"sheet":" Дети до 3 лет","index":0,"n_rows":21,"n_cols":7,"rows_kept":21,"merged":[[0,3,0,4]]}
[null," МБДОУ д/с № 362"]
["Прием пищи","Блюдо","Выход","Калорийность","Белки","Жиры","Углеводы"]
["Завтрак",{"$f":"'[1]Дневной рацион, Дети до 3х лет'!D4","v":"каша вязкая молочная геркулес."},{"$f":"'[1]Дневной рацион, Дети до 3х лет'!E4","v":171},{"$f":"'[1]Дневной рацион, Дети до 3х лет'!G4","v":27.976},{"$f":"'[1]Дневной рацион, Дети до 3х лет'!H4","v":0.873},{"$f":"'[1]Дневной рацион, Дети до 3х лет'!I4","v":1.146},{"$f":"'[1]Дневной рацион, Дети до 3х лет'!J4","v":3.506}]
[null,{"$f":"'[1]Дневной рацион, Дети до 3х лет'!D5","v":"Бутерброды с маслом ."},{"$f":"'[1]Дневной рацион, Дети до 3х лет'!E5","v":25},{"$f":"'[1]Дневной рацион, Дети до 3х лет'!G5","v":121.667},{"$f":"'[1]Дневной рацион, Дети до 3х лет'!H5","v":1.334},{"$f":"'[1]Дневной рацион, Дети до 3х лет'!I5","v":9.167},{"$f":"'[1]Дневной рацион, Дети до 3х лет'!J5","v":8.334}]
[null,{"$f":"'[1]Дневной рацион, Дети до 3х лет'!D6","v":"Чай с сахаром ."},{"$f":"'[1]Дневной рацион, Дети до 3х лет'!E6","v":180},{"$f":"'[1]Дневной рацион, Дети до 3х лет'!G6","v":51.3},{"$f":"'[1]Дневной рацион, Дети до 3х лет'!H6","v":0.18},{"$f":"'[1]Дневной рацион, Дети до 3х лет'!I6","v":0},{"$f":"'[1]Дневной рацион, Дети до 3х лет'!J6","v":13.5}]
["Завтрак №2","бифилин-н",170,69.78]
[]
["Обед",{"$f":"'[1]Дневной рацион, Дети до 3х лет'!D8","v":"Суп-харчо с мясом."},{"$f":"'[1]Дневной рацион, Дети до 3х лет'!E8","v":173},{"$f":"'[1]Дневной рацион, Дети до 3х лет'!G8","v":352.055},{"$f":"'[1]Дневной рацион, Дети до 3х лет'!H8","v":16.089},{"$f":"'[1]Дневной рацион, Дети до 3х лет'!I8","v":16.435},{"$f":"'[1]Дневной рацион, Дети до 3х лет'!J8","v":34.86}]
[null,{"$f":"'[1]Дневной рацион, Дети до 3х лет'!D9","v":"Пудинг рыбный запеченный ."},{"$f":"'[1]Дневной рацион, Дети до 3х лет'!E9","v":136},{"$f":"'[1]Дневной рацион, Дети до 3х лет'!G9","v":103.944},{"$f":"'[1]Дневной рацион, Дети до 3х лет'!H9","v":10.007},{"$f":"'[1]Дневной рацион, Дети до 3х лет'!I9","v":4.382},{"$f":"'[1]Дневной рацион, Дети до 3х лет'!J9","v":6.034}]
[null,{"$f":"'[1]Дневной рацион, Дети до 3х лет'!D10","v":"Напиток клюквенный."},{"$f":"'[1]Дневной рацион, Дети до 3х лет'!E10","v":177},{"$f":"'[1]Дневной рацион, Дети до 3х лет'!G10","v":36.285},{"$f":"'[1]Дневной рацион, Дети до 3х лет'!H10","v":0.089},{"$f":"'[1]Дневной рацион, Дети до 3х лет'!I10","v":0.036},{"$f":"'[1]Дневной рацион, Дети до 3х лет'!J10","v":8.762}]
[null,{"$f":"'[1]Дневной рацион, Дети до 3х лет'!D11","v":"Икра морковная."},{"$f":"'[1]Дневной рацион, Дети до 3х лет'!E11","v":31},{"$f":"'[1]Дневной рацион, Дети до 3х лет'!G11","v":35.134},{"$f":"'[1]Дневной рацион, Дети до 3х лет'!H11","v":0.62},{"$f":"'[1]Дневной рацион, Дети до 3х лет'!I11","v":2.17},{"$f":"'[1]Дневной рацион, Дети до 3х лет'!J11","v":3.1}]
[null,{"$f":"'[1]Дневной рацион, Дети до 3х лет'!D12","v":"Хлеб  пшеничный"},{"$f":"'[1]Дневной рацион, Дети до 3х лет'!E12","v":30},{"$f":"'[1]Дневной рацион, Дети до 3х лет'!G12","v":0},{"$f":"'[1]Дневной рацион, Дети до 3х лет'!H12","v":0},{"$f":"'[1]Дневной рацион, Дети до 3х лет'!I12","v":0},{"$f":"'[1]Дневной рацион, Дети до 3х лет'!J12","v":0}]
[null,{"$f":"'[1]Дневной рацион, Дети до 3х лет'!D13","v":"Хлеб  ржаной"},{"$f":"'[1]Дневной рацион, Дети до 3х лет'!E13","v":36},{"$f":"'[1]Дневной рацион, Дети до 3х лет'!G13","v":0},{"$f":"'[1]Дневной рацион, Дети до 3х лет'!H13","v":0},{"$f":"'[1]Дневной рацион, Дети до 3х лет'!I13","v":0},{"$f":"'[1]Дневной рацион, Дети до 3х лет'!J13","v":0}]
[]
[]
["Полдник",{"$f":"'[1]Дневной рацион, Дети до 3х лет'!D14","v":"Вафли"},{"$f":"'[1]Дневной рацион, Дети до 3х лет'!E14","v":28},{"$f":"'[1]Дневной рацион, Дети до 3х лет'!G14","v":98},{"$f":"'[1]Дневной рацион, Дети до 3х лет'!H14","v":0.784},{"$f":"'[1]Дневной рацион, Дети до 3х лет'!I14","v":0.924},{"$f":"'[1]Дневной рацион, Дети до 3х лет'!J14","v":21.644}]
[null,"ряженка",{"$f":"'[1]Дневной рацион, Дети до 3х лет'!E15","v":180},{"$f":"'[1]Дневной рацион, Дети до 3х лет'!G15","v":95.4},{"$f":"'[1]Дневной рацион, Дети до 3х лет'!H15","v":5.22},{"$f":"'[1]Дневной рацион, Дети до 3х лет'!I15","v":4.5},{"$f":"'[1]Дневной рацион, Дети до 3х лет'!J15","v":8.64}]
[]
["Ужин","варенники ленивые",124,397,{"$f":"'[1]Дневной рацион, Дети до 3х лет'!H16","v":10.65},{"$f":"'[1]Дневной рацион, Дети до 3х лет'!I16","v":9.467},{"$f":"'[1]Дневной рацион, Дети до 3х лет'!J16","v":20.985}]
[null,{"$f":"'[1]Дневной рацион, Дети до 3х лет'!D17","v":"Напиток витаминный Витошка ."},{"$f":"'[1]Дневной рацион, Дети до 3х лет'!E17","v":183},{"$f":"'[1]Дневной рацион, Дети до 3х лет'!G17","v":301.95},{"$f":"'[1]Дневной рацион, Дети до 3х лет'!H17","v":0},{"$f":"'[1]Дневной рацион, Дети до 3х лет'!I17","v":0},{"$f":"'[1]Дневной рацион, Дети до 3х лет'!J17","v":17.385}]
[null,{"$f":"'[1]Дневной рацион, Дети до 3х лет'!D18","v":"Хлеб  пшеничный"},{"$f":"'[1]Дневной рацион, Дети до 3х лет'!E18","v":20},{"$f":"'[1]Дневной рацион, Дети до 3х лет'!G18","v":0},{"$f":"'[1]Дневной рацион, Дети до 3х лет'!H18","v":0},{"$f":"'[1]Дневной рацион, Дети до 3х лет'!I18","v":0},{"$f":"'[1]Дневной рацион, Дети до 3х лет'!J18","v":0}]

{"sheet":"Дети  3-7лет","index":1,"n_rows":22,"n_cols":7,"rows_kept":22}
[]
[]
["Прием пищи","Блюдо","Выход","Калорийность","Белки","Жиры","Углеводы"]
["Завтрак",{"$f":"'[2]Дневной рацион, Дети 3-7 лет, '!D4","v":"каша вязкая молочная геркулес."},{"$f":"'[2]Дневной рацион, Дети 3-7 лет, '!E4","v":201},{"$f":"'[2]Дневной рацион, Дети 3-7 лет, '!G4","v":32.884},{"$f":"'[2]Дневной рацион, Дети 3-7 лет, '!H4","v":1.026},{"$f":"'[2]Дневной рацион, Дети 3-7 лет, '!I4","v":1.347},{"$f":"'[2]Дневной рацион, Дети 3-7 лет, '!J4","v":4.121}]
[null,{"$f":"'[2]Дневной рацион, Дети 3-7 лет, '!D5","v":"Бутерброды с маслом ."},{"$f":"'[2]Дневной рацион, Дети 3-7 лет, '!E5","v":25},{"$f":"'[2]Дневной рацион, Дети 3-7 лет, '!G5","v":121.667},{"$f":"'[2]Дневной рацион, Дети 3-7 лет, '!H5","v":1.334},{"$f":"'[2]Дневной рацион, Дети 3-7 лет, '!I5","v":9.167},{"$f":"'[2]Дневной рацион, Дети 3-7 лет, '!J5","v":8.334}]
[null,{"$f":"'[2]Дневной рацион, Дети 3-7 лет, '!D6","v":"Чай с сахаром ."},{"$f":"'[2]Дневной рацион, Дети 3-7 лет, '!E6","v":200},{"$f":"'[2]Дневной рацион, Дети 3-7 лет, '!G6","v":57},{"$f":"'[2]Дневной рацион, Дети 3-7 лет, '!H6","v":0.2},{"$f":"'[2]Дневной рацион, Дети 3-7 лет, '!I6","v":0},{"$f":"'[2]Дневной рацион, Дети 3-7 лет, '!J6","v":15}]
["Завтрак №2","бифилин-н",200,69.78]
[]
["Обед",{"$f":"'[2]Дневной рацион, Дети 3-7 лет, '!D8","v":"Суп-харчо с мясом."},{"$f":"'[2]Дневной рацион, Дети 3-7 лет, '!E8","v":203},{"$f":"'[2]Дневной рацион, Дети 3-7 лет, '!G8","v":413.105},{"$f":"'[2]Дневной рацион, Дети 3-7 лет, '!H8","v":18.879},{"$f":"'[2]Дневной рацион, Дети 3-7 лет, '!I8","v":19.285},{"$f":"'[2]Дневной рацион, Дети 3-7 лет, '!J8","v":40.905}]
[null,{"$f":"'[2]Дневной рацион, Дети 3-7 лет, '!D9","v":"Пудинг рыбный запеченный ."},{"$f":"'[2]Дневной рацион, Дети 3-7 лет, '!E9","v":157},{"$f":"'[2]Дневной рацион, Дети 3-7 лет, '!G9","v":119.994},{"$f":"'[2]Дневной рацион, Дети 3-7 лет, '!H9","v":11.552},{"$f":"'[2]Дневной рацион, Дети 3-7 лет, '!I9","v":5.059},{"$f":"'[2]Дневной рацион, Дети 3-7 лет, '!J9","v":6.965}]
[null,{"$f":"'[2]Дневной рацион, Дети 3-7 лет, '!D10","v":"Напиток клюквенный."},{"$f":"'[2]Дневной рацион, Дети 3-7 лет, '!E10","v":196},{"$f":"'[2]Дневной рацион, Дети 3-7 лет, '!G10","v":40.18},{"$f":"'[2]Дневной рацион, Дети 3-7 лет, '!H10","v":0.098},{"$f":"'[2]Дневной рацион, Дети 3-7 лет, '!I10","v":0.04},{"$f":"'[2]Дневной рацион, Дети 3-7 лет, '!J10","v":9.702}]
[null,{"$f":"'[2]Дневной рацион, Дети 3-7 лет, '!D11","v":"Икра морковная."},{"$f":"'[2]Дневной рацион, Дети 3-7 лет, '!E11","v":51},{"$f":"'[2]Дневной рацион, Дети 3-7 лет, '!G11","v":57.801},{"$f":"'[2]Дневной рацион, Дети 3-7 лет, '!H11","v":1.02},{"$f":"'[2]Дневной рацион, Дети 3-7 лет, '!I11","v":3.57},{"$f":"'[2]Дневной рацион, Дети 3-7 лет, '!J11","v":5.1}]
[null,{"$f":"'[2]Дневной рацион, Дети 3-7 лет, '!D12","v":"Хлеб  пшеничный"},{"$f":"'[2]Дневной рацион, Дети 3-7 лет, '!E12","v":40},{"$f":"'[2]Дневной рацион, Дети 3-7 лет, '!G12","v":0},{"$f":"'[2]Дневной рацион, Дети 3-7 лет, '!H12","v":0},{"$f":"'[2]Дневной рацион, Дети 3-7 лет, '!I12","v":0},{"$f":"'[2]Дневной рацион, Дети 3-7 лет, '!J12","v":0}]
[null,{"$f":"'[2]Дневной рацион, Дети 3-7 лет, '!D13","v":"Хлеб  ржаной"},{"$f":"'[2]Дневной рацион, Дети 3-7 лет, '!E13","v":42},{"$f":"'[2]Дневной рацион, Дети 3-7 лет, '!G13","v":0},{"$f":"'[2]Дневной рацион, Дети 3-7 лет, '!H13","v":0},{"$f":"'[2]Дневной рацион, Дети 3-7 лет, '!I13","v":0},{"$f":"'[2]Дневной рацион, Дети 3-7 лет, '!J13","v":0}]
[]
["Полдник",{"$f":"'[2]Дневной рацион, Дети 3-7 лет, '!D14","v":"Вафли"},{"$f":"'[2]Дневной рацион, Дети 3-7 лет, '!E14","v":37},{"$f":"'[2]Дневной рацион, Дети 3-7 лет, '!G14","v":129.5},{"$f":"'[2]Дневной рацион, Дети 3-7 лет, '!H14","v":1.036},{"$f":"'[2]Дневной рацион, Дети 3-7 лет, '!I14","v":1.221},{"$f":"'[2]Дневной рацион, Дети 3-7 лет, '!J14","v":28.601}]
[null,"ряженка",{"$f":"'[2]Дневной рацион, Дети 3-7 лет, '!E15","v":180},{"$f":"'[2]Дневной рацион, Дети 3-7 лет, '!G15","v":95.4},{"$f":"'[2]Дневной рацион, Дети 3-7 лет, '!H15","v":5.22},{"$f":"'[2]Дневной рацион, Дети 3-7 лет, '!I15","v":4.5},{"$f":"'[2]Дневной рацион, Дети 3-7 лет, '!J15","v":8.64}]
[]
["Ужин","варенники ленивые",2124,397,{"$f":"'[2]Дневной рацион, Дети 3-7 лет, '!H16","v":12.825},{"$f":"'[2]Дневной рацион, Дети 3-7 лет, '!I16","v":11.4},{"$f":"'[2]Дневной рацион, Дети 3-7 лет, '!J16","v":25.27}]
[null,{"$f":"'[2]Дневной рацион, Дети 3-7 лет, '!D17","v":"Напиток витаминный Витошка ."},{"$f":"'[2]Дневной рацион, Дети 3-7 лет, '!E17","v":183},{"$f":"'[2]Дневной рацион, Дети 3-7 лет, '!G17","v":301.95},{"$f":"'[2]Дневной рацион, Дети 3-7 лет, '!H17","v":0},{"$f":"'[2]Дневной рацион, Дети 3-7 лет, '!I17","v":0},{"$f":"'[2]Дневной рацион, Дети 3-7 лет, '!J17","v":17.385}]
[null,{"$f":"'[2]Дневной рацион, Дети 3-7 лет, '!D18","v":"Хлеб  пшеничный"},{"$f":"'[2]Дневной рацион, Дети 3-7 лет, '!E18","v":20},{"$f":"'[2]Дневной рацион, Дети 3-7 лет, '!G18","v":0},{"$f":"'[2]Дневной рацион, Дети 3-7 лет, '!H18","v":0},{"$f":"'[2]Дневной рацион, Дети 3-7 лет, '!I18","v":0},{"$f":"'[2]Дневной рацион, Дети 3-7 лет, '!J18","v":0}]
[null,{"$f":"'[2]Дневной рацион, Дети 3-7 лет, '!D19","v":0},{"$f":"'[2]Дневной рацион, Дети 3-7 лет, '!E19","v":0},{"$f":"'[2]Дневной рацион, Дети 3-7 лет, '!G19","v":0},{"$f":"'[2]Дневной рацион, Дети 3-7 лет, '!H19","v":0},{"$f":"'[2]Дневной рацион, Дети 3-7 лет, '!I19","v":0},{"$f":"'[2]Дневной рацион, Дети 3-7 лет, '!J19","v":0}]