{"text_format":"3","workbook":"xlsx","n_sheets":2,"sheets":[" Дети 3-7 лет","Дети до 3-лет"],"not_rendered":{"images":3,"external_links":2},"read":"whole","date_system":"1900"}

{"sheet":" Дети 3-7 лет","index":0,"n_rows":21,"n_cols":7,"rows_kept":21,"merged":[[0,3,0,4]]}
[null," МБДОУ д/с № 362"]
["Прием пищи","Блюдо","Выход","Калорийность","Белки","Жиры","Углеводы"]
["Завтрак",{"$f":"'[1]Дневной рацион, Дети 3-7 лет, '!D4","v":"Омлет паровой  натуральный с маслом ."},{"$f":"'[1]Дневной рацион, Дети 3-7 лет, '!E4","v":101},{"$f":"'[1]Дневной рацион, Дети 3-7 лет, '!G4","v":184.209},{"$f":"'[1]Дневной рацион, Дети 3-7 лет, '!H4","v":9.797},{"$f":"'[1]Дневной рацион, Дети 3-7 лет, '!I4","v":15.019},{"$f":"'[1]Дневной рацион, Дети 3-7 лет, '!J4","v":2.449}]
[null,{"$f":"'[1]Дневной рацион, Дети 3-7 лет, '!D5","v":"Бутерброды  (батон) с маслом ."},{"$f":"'[1]Дневной рацион, Дети 3-7 лет, '!E5","v":37},{"$f":"'[1]Дневной рацион, Дети 3-7 лет, '!G5","v":154.343},{"$f":"'[1]Дневной рацион, Дети 3-7 лет, '!H5","v":1.692},{"$f":"'[1]Дневной рацион, Дети 3-7 лет, '!I5","v":11.629},{"$f":"'[1]Дневной рацион, Дети 3-7 лет, '!J5","v":10.572}]
[null,{"$f":"'[1]Дневной рацион, Дети 3-7 лет, '!D6","v":"КОФЕЙНЫЙ НАПИТОК С МОЛОКОМ  ."},{"$f":"'[1]Дневной рацион, Дети 3-7 лет, '!E6","v":200},{"$f":"'[1]Дневной рацион, Дети 3-7 лет, '!G6","v":58.9},{"$f":"'[1]Дневной рацион, Дети 3-7 лет, '!H6","v":2.3},{"$f":"'[1]Дневной рацион, Дети 3-7 лет, '!I6","v":1.9},{"$f":"'[1]Дневной рацион, Дети 3-7 лет, '!J6","v":8.2}]
["Завтрак №2","яблоко свежее",141,158]
[]
["Обед",{"$f":"'[1]Дневной рацион, Дети 3-7 лет, '!D8","v":"кукуруза с зел.горошком (консервированный)."},{"$f":"'[1]Дневной рацион, Дети 3-7 лет, '!E8","v":44},{"$f":"'[1]Дневной рацион, Дети 3-7 лет, '!G8","v":15.352},{"$f":"'[1]Дневной рацион, Дети 3-7 лет, '!H8","v":0.587},{"$f":"'[1]Дневной рацион, Дети 3-7 лет, '!I8","v":0.098},{"$f":"'[1]Дневной рацион, Дети 3-7 лет, '!J8","v":3.032}]
[null,{"$f":"'[1]Дневной рацион, Дети 3-7 лет, '!D9","v":"Свекольник со сметаной."},{"$f":"'[1]Дневной рацион, Дети 3-7 лет, '!E9","v":201},{"$f":"'[1]Дневной рацион, Дети 3-7 лет, '!G9","v":376.875},{"$f":"'[1]Дневной рацион, Дети 3-7 лет, '!H9","v":8.241},{"$f":"'[1]Дневной рацион, Дети 3-7 лет, '!I9","v":19.095},{"$f":"'[1]Дневной рацион, Дети 3-7 лет, '!J9","v":43.115}]
[null,{"$f":"'[1]Дневной рацион, Дети 3-7 лет, '!D10","v":"Голубцы ленивые со сметанным соусом."},{"$f":"'[1]Дневной рацион, Дети 3-7 лет, '!E10","v":171},{"$f":"'[1]Дневной рацион, Дети 3-7 лет, '!G10","v":244.128},{"$f":"'[1]Дневной рацион, Дети 3-7 лет, '!H10","v":17.201},{"$f":"'[1]Дневной рацион, Дети 3-7 лет, '!I10","v":13.178},{"$f":"'[1]Дневной рацион, Дети 3-7 лет, '!J10","v":14.083}]
[null,{"$f":"'[1]Дневной рацион, Дети 3-7 лет, '!D11","v":"Компот из   (кураги)."},{"$f":"'[1]Дневной рацион, Дети 3-7 лет, '!E11","v":197},{"$f":"'[1]Дневной рацион, Дети 3-7 лет, '!G11","v":20.134},{"$f":"'[1]Дневной рацион, Дети 3-7 лет, '!H11","v":0.355},{"$f":"'[1]Дневной рацион, Дети 3-7 лет, '!I11","v":0.02},{"$f":"'[1]Дневной рацион, Дети 3-7 лет, '!J11","v":4.63}]
[null,{"$f":"'[1]Дневной рацион, Дети 3-7 лет, '!D12","v":"Хлеб  пшеничный"},{"$f":"'[1]Дневной рацион, Дети 3-7 лет, '!E12","v":40},{"$f":"'[1]Дневной рацион, Дети 3-7 лет, '!G12","v":0},{"$f":"'[1]Дневной рацион, Дети 3-7 лет, '!H12","v":0},{"$f":"'[1]Дневной рацион, Дети 3-7 лет, '!I12","v":0},{"$f":"'[1]Дневной рацион, Дети 3-7 лет, '!J12","v":0}]
[null,{"$f":"'[1]Дневной рацион, Дети 3-7 лет, '!D13","v":"Хлеб  ржаной"},{"$f":"'[1]Дневной рацион, Дети 3-7 лет, '!E13","v":34},{"$f":"'[1]Дневной рацион, Дети 3-7 лет, '!G13","v":0},{"$f":"'[1]Дневной рацион, Дети 3-7 лет, '!H13","v":0},{"$f":"'[1]Дневной рацион, Дети 3-7 лет, '!I13","v":0},{"$f":"'[1]Дневной рацион, Дети 3-7 лет, '!J13","v":0}]
[]
["Полдник",{"$f":"'[1]Дневной рацион, Дети 3-7 лет, '!D14","v":"Соки овощные, фруктовые и ягодные."},{"$f":"'[1]Дневной рацион, Дети 3-7 лет, '!E14","v":200},{"$f":"'[1]Дневной рацион, Дети 3-7 лет, '!G14","v":55},{"$f":"'[1]Дневной рацион, Дети 3-7 лет, '!H14","v":0.5},{"$f":"'[1]Дневной рацион, Дети 3-7 лет, '!I14","v":0},{"$f":"'[1]Дневной рацион, Дети 3-7 лет, '!J14","v":12.7}]
[null,{"$f":"'[1]Дневной рацион, Дети 3-7 лет, '!D15","v":"Печенье весовое"},{"$f":"'[1]Дневной рацион, Дети 3-7 лет, '!E15","v":34},{"$f":"'[1]Дневной рацион, Дети 3-7 лет, '!G15","v":141.78},{"$f":"'[1]Дневной рацион, Дети 3-7 лет, '!H15","v":2.55},{"$f":"'[1]Дневной рацион, Дети 3-7 лет, '!I15","v":3.332},{"$f":"'[1]Дневной рацион, Дети 3-7 лет, '!J15","v":25.296}]
[]
["Ужин",{"$f":"'[1]Дневной рацион, Дети 3-7 лет, '!D16","v":"Пудинг манный с повидлом ."},{"$f":"'[1]Дневной рацион, Дети 3-7 лет, '!E16","v":177},{"$f":"'[1]Дневной рацион, Дети 3-7 лет, '!G16","v":334.219},{"$f":"'[1]Дневной рацион, Дети 3-7 лет, '!H16","v":9.788},{"$f":"'[1]Дневной рацион, Дети 3-7 лет, '!I16","v":8.018},{"$f":"'[1]Дневной рацион, Дети 3-7 лет, '!J16","v":55.704}]
[null,{"$f":"'[1]Дневной рацион, Дети 3-7 лет, '!D17","v":"Кисель из ягод (смородина)."},{"$f":"'[1]Дневной рацион, Дети 3-7 лет, '!E17","v":198},{"$f":"'[1]Дневной рацион, Дети 3-7 лет, '!G17","v":10.059},{"$f":"'[1]Дневной рацион, Дети 3-7 лет, '!H17","v":0.04},{"$f":"'[1]Дневной рацион, Дети 3-7 лет, '!I17","v":0.02},{"$f":"'[1]Дневной рацион, Дети 3-7 лет, '!J17","v":2.436}]
[null,{"$f":"'[1]Дневной рацион, Дети 3-7 лет, '!D18","v":"Хлеб  пшеничный"},{"$f":"'[1]Дневной рацион, Дети 3-7 лет, '!E18","v":20},{"$f":"'[1]Дневной рацион, Дети 3-7 лет, '!G18","v":0},{"$f":"'[1]Дневной рацион, Дети 3-7 лет, '!H18","v":0},{"$f":"'[1]Дневной рацион, Дети 3-7 лет, '!I18","v":0},{"$f":"'[1]Дневной рацион, Дети 3-7 лет, '!J18","v":0}]
[{"$nulls":3},{"$f":"'[1]Дневной рацион, Дети 3-7 лет, '!G25","v":0},{"$f":"'[1]Дневной рацион, Дети 3-7 лет, '!H25","v":0},{"$f":"'[1]Дневной рацион, Дети 3-7 лет, '!I25","v":0},{"$f":"'[1]Дневной рацион, Дети 3-7 лет, '!J25","v":0}]

{"sheet":"Дети до 3-лет","index":1,"n_rows":22,"n_cols":7,"rows_kept":22}
[]
[]
["Прием пищи","Блюдо","Выход","Калорийность","Белки","Жиры","Углеводы"]
["Завтрак",{"$f":"'[2]Дневной рацион, Дети до 3х лет'!D4","v":"Омлет паровой  натуральный с маслом ."},{"$f":"'[2]Дневной рацион, Дети до 3х лет'!E4","v":81},{"$f":"'[1]Дневной рацион, Дети 3-7 лет, '!G4","v":184.209},{"$f":"'[1]Дневной рацион, Дети 3-7 лет, '!H4","v":9.797},{"$f":"'[1]Дневной рацион, Дети 3-7 лет, '!I4","v":15.019},{"$f":"'[1]Дневной рацион, Дети 3-7 лет, '!J4","v":2.449}]
[null,{"$f":"'[2]Дневной рацион, Дети до 3х лет'!D5","v":"Бутерброды  (батон) с маслом ."},{"$f":"'[2]Дневной рацион, Дети до 3х лет'!E5","v":26},{"$f":"'[1]Дневной рацион, Дети 3-7 лет, '!G5","v":154.343},{"$f":"'[1]Дневной рацион, Дети 3-7 лет, '!H5","v":1.692},{"$f":"'[1]Дневной рацион, Дети 3-7 лет, '!I5","v":11.629},{"$f":"'[1]Дневной рацион, Дети 3-7 лет, '!J5","v":10.572}]
[null,{"$f":"'[2]Дневной рацион, Дети до 3х лет'!D6","v":"КОФЕЙНЫЙ НАПИТОК С МОЛОКОМ  ."},{"$f":"'[2]Дневной рацион, Дети до 3х лет'!E6","v":170},{"$f":"'[1]Дневной рацион, Дети 3-7 лет, '!G6","v":58.9},{"$f":"'[1]Дневной рацион, Дети 3-7 лет, '!H6","v":2.3},{"$f":"'[1]Дневной рацион, Дети 3-7 лет, '!I6","v":1.9},{"$f":"'[1]Дневной рацион, Дети 3-7 лет, '!J6","v":8.2}]
["Завтрак №2","яблоко свежее",141,158]
[]
["Обед",{"$f":"'[2]Дневной рацион, Дети до 3х лет'!D8","v":"кукуруза с зел.горошком (консервированный)."},{"$f":"'[2]Дневной рацион, Дети до 3х лет'!E8","v":30},{"$f":"'[1]Дневной рацион, Дети 3-7 лет, '!G8","v":15.352},{"$f":"'[1]Дневной рацион, Дети 3-7 лет, '!H8","v":0.587},{"$f":"'[1]Дневной рацион, Дети 3-7 лет, '!I8","v":0.098},{"$f":"'[1]Дневной рацион, Дети 3-7 лет, '!J8","v":3.032}]
[null,{"$f":"'[2]Дневной рацион, Дети до 3х лет'!D9","v":"Свекольник со сметаной."},{"$f":"'[2]Дневной рацион, Дети до 3х лет'!E9","v":171},{"$f":"'[1]Дневной рацион, Дети 3-7 лет, '!G9","v":376.875},{"$f":"'[1]Дневной рацион, Дети 3-7 лет, '!H9","v":8.241},{"$f":"'[1]Дневной рацион, Дети 3-7 лет, '!I9","v":19.095},{"$f":"'[1]Дневной рацион, Дети 3-7 лет, '!J9","v":43.115}]
[null,{"$f":"'[2]Дневной рацион, Дети до 3х лет'!D10","v":"Голубцы ленивые со сметанным соусом."},{"$f":"'[2]Дневной рацион, Дети до 3х лет'!E10","v":151},{"$f":"'[1]Дневной рацион, Дети 3-7 лет, '!G10","v":244.128},{"$f":"'[1]Дневной рацион, Дети 3-7 лет, '!H10","v":17.201},{"$f":"'[1]Дневной рацион, Дети 3-7 лет, '!I10","v":13.178},{"$f":"'[1]Дневной рацион, Дети 3-7 лет, '!J10","v":14.083}]
[null,{"$f":"'[2]Дневной рацион, Дети до 3х лет'!D11","v":"Компот из   (кураги)."},{"$f":"'[2]Дневной рацион, Дети до 3х лет'!E11","v":177},{"$f":"'[1]Дневной рацион, Дети 3-7 лет, '!G11","v":20.134},{"$f":"'[1]Дневной рацион, Дети 3-7 лет, '!H11","v":0.355},{"$f":"'[1]Дневной рацион, Дети 3-7 лет, '!I11","v":0.02},{"$f":"'[1]Дневной рацион, Дети 3-7 лет, '!J11","v":4.63}]
[null,{"$f":"'[2]Дневной рацион, Дети до 3х лет'!D12","v":"Хлеб  пшеничный"},{"$f":"'[2]Дневной рацион, Дети до 3х лет'!E12","v":30},{"$f":"'[1]Дневной рацион, Дети 3-7 лет, '!G12","v":0},{"$f":"'[1]Дневной рацион, Дети 3-7 лет, '!H12","v":0},{"$f":"'[1]Дневной рацион, Дети 3-7 лет, '!I12","v":0},{"$f":"'[1]Дневной рацион, Дети 3-7 лет, '!J12","v":0}]
[null,{"$f":"'[2]Дневной рацион, Дети до 3х лет'!D13","v":"Хлеб  ржаной"},{"$f":"'[2]Дневной рацион, Дети до 3х лет'!E13","v":29},{"$f":"'[1]Дневной рацион, Дети 3-7 лет, '!G13","v":0},{"$f":"'[1]Дневной рацион, Дети 3-7 лет, '!H13","v":0},{"$f":"'[1]Дневной рацион, Дети 3-7 лет, '!I13","v":0},{"$f":"'[1]Дневной рацион, Дети 3-7 лет, '!J13","v":0}]
[]
["Полдник",{"$f":"'[2]Дневной рацион, Дети до 3х лет'!D14","v":"Соки овощные, фруктовые и ягодные."},{"$f":"'[2]Дневной рацион, Дети до 3х лет'!E14","v":160},{"$f":"'[1]Дневной рацион, Дети 3-7 лет, '!G14","v":55},{"$f":"'[1]Дневной рацион, Дети 3-7 лет, '!H14","v":0.5},{"$f":"'[1]Дневной рацион, Дети 3-7 лет, '!I14","v":0},{"$f":"'[1]Дневной рацион, Дети 3-7 лет, '!J14","v":12.7}]
[null,{"$f":"'[2]Дневной рацион, Дети до 3х лет'!D15","v":"Печенье весовое"},{"$f":"'[2]Дневной рацион, Дети до 3х лет'!E15","v":25},{"$f":"'[1]Дневной рацион, Дети 3-7 лет, '!G15","v":141.78},{"$f":"'[1]Дневной рацион, Дети 3-7 лет, '!H15","v":2.55},{"$f":"'[1]Дневной рацион, Дети 3-7 лет, '!I15","v":3.332},{"$f":"'[1]Дневной рацион, Дети 3-7 лет, '!J15","v":25.296}]
[]
["Ужин",{"$f":"'[2]Дневной рацион, Дети до 3х лет'!D16","v":"Пудинг манный с повидлом ."},{"$f":"'[2]Дневной рацион, Дети до 3х лет'!E16","v":147},{"$f":"'[1]Дневной рацион, Дети 3-7 лет, '!G16","v":334.219},{"$f":"'[1]Дневной рацион, Дети 3-7 лет, '!H16","v":9.788},{"$f":"'[1]Дневной рацион, Дети 3-7 лет, '!I16","v":8.018},{"$f":"'[1]Дневной рацион, Дети 3-7 лет, '!J16","v":55.704}]
[null,{"$f":"'[2]Дневной рацион, Дети до 3х лет'!D17","v":"Кисель из ягод (смородина)."},{"$f":"'[2]Дневной рацион, Дети до 3х лет'!E17","v":179},{"$f":"'[1]Дневной рацион, Дети 3-7 лет, '!G17","v":10.059},{"$f":"'[1]Дневной рацион, Дети 3-7 лет, '!H17","v":0.04},{"$f":"'[1]Дневной рацион, Дети 3-7 лет, '!I17","v":0.02},{"$f":"'[1]Дневной рацион, Дети 3-7 лет, '!J17","v":2.436}]
[null,{"$f":"'[2]Дневной рацион, Дети до 3х лет'!D18","v":"Хлеб  пшеничный"},{"$f":"'[2]Дневной рацион, Дети до 3х лет'!E18","v":20},{"$f":"'[1]Дневной рацион, Дети 3-7 лет, '!G18","v":0},{"$f":"'[1]Дневной рацион, Дети 3-7 лет, '!H18","v":0},{"$f":"'[1]Дневной рацион, Дети 3-7 лет, '!I18","v":0},{"$f":"'[1]Дневной рацион, Дети 3-7 лет, '!J18","v":0}]
[null,{"$f":"'[2]Дневной рацион, Дети до 3х лет'!D19","v":0},{"$f":"'[2]Дневной рацион, Дети до 3х лет'!E19","v":0},{"$f":"'[1]Дневной рацион, Дети 3-7 лет, '!G19","v":0},{"$f":"'[1]Дневной рацион, Дети 3-7 лет, '!H19","v":0},{"$f":"'[1]Дневной рацион, Дети 3-7 лет, '!I19","v":0},{"$f":"'[1]Дневной рацион, Дети 3-7 лет, '!J19","v":0}]