{"text_format":"3","workbook":"xlsx","n_sheets":2,"sheets":[" Дети 3-7 лет","Дети до 3-лет"],"not_rendered":{"images":3,"external_links":3},"read":"whole","date_system":"1900"}

{"sheet":" Дети 3-7 лет","index":0,"n_rows":22,"n_cols":7,"rows_kept":22,"merged":[[0,3,0,4]]}
[null," МБДОУ д/с № 362"]
["Прием пищи","Блюдо","Выход","Калорийность","Белки","Жиры","Углеводы"]
["Завтрак",{"$f":"'[1]Дневной рацион, Дети 3-7 лет, '!D4","v":"Каша вязкая молочная ячневая ."},{"$f":"'[1]Дневной рацион, Дети 3-7 лет, '!E4","v":201},{"$f":"'[1]Дневной рацион, Дети 3-7 лет, '!F4","v":0},{"$f":"'[1]Дневной рацион, Дети 3-7 лет, '!G4","v":295.671},{"$f":"'[1]Дневной рацион, Дети 3-7 лет, '!H4","v":8.342},{"$f":"'[1]Дневной рацион, Дети 3-7 лет, '!I4","v":12.663}]
[null,{"$f":"'[1]Дневной рацион, Дети 3-7 лет, '!D5","v":"Бутерброды  (батон) с маслом ."},{"$f":"'[1]Дневной рацион, Дети 3-7 лет, '!E5","v":35},{"$f":"'[1]Дневной рацион, Дети 3-7 лет, '!F5","v":0},{"$f":"'[1]Дневной рацион, Дети 3-7 лет, '!G5","v":146},{"$f":"'[1]Дневной рацион, Дети 3-7 лет, '!H5","v":1.6},{"$f":"'[1]Дневной рацион, Дети 3-7 лет, '!I5","v":11}]
[null,{"$f":"'[1]Дневной рацион, Дети 3-7 лет, '!D6","v":"КОФЕЙНЫЙ НАПИТОК С МОЛОКОМ  ."},{"$f":"'[1]Дневной рацион, Дети 3-7 лет, '!E6","v":200},{"$f":"'[1]Дневной рацион, Дети 3-7 лет, '!F6","v":0},{"$f":"'[1]Дневной рацион, Дети 3-7 лет, '!G6","v":58.9},{"$f":"'[1]Дневной рацион, Дети 3-7 лет, '!H6","v":2.3},{"$f":"'[1]Дневной рацион, Дети 3-7 лет, '!I6","v":1.9}]
["Завтрак №2",{"$f":"'[3]Дневной рацион, Дети 3-7 лет, '!D7","v":"Соки овощные, фруктовые и ягодные."},{"$f":"'[3]Дневной рацион, Дети 3-7 лет, '!E7","v":200}]
[]
[null,{"$f":"'[1]Дневной рацион, Дети 3-7 лет, '!D7","v":"Рассольник ленинградский  со сметаной ."},{"$f":"'[1]Дневной рацион, Дети 3-7 лет, '!E7","v":197},{"$f":"'[1]Дневной рацион, Дети 3-7 лет, '!F7","v":0},{"$f":"'[1]Дневной рацион, Дети 3-7 лет, '!G7","v":123.638},{"$f":"'[1]Дневной рацион, Дети 3-7 лет, '!H7","v":4.669},{"$f":"'[1]Дневной рацион, Дети 3-7 лет, '!I7","v":5.713}]
[null,{"$f":"'[1]Дневной рацион, Дети 3-7 лет, '!D8","v":"Соус красный основной ."},{"$f":"'[1]Дневной рацион, Дети 3-7 лет, '!E8","v":31},{"$f":"'[1]Дневной рацион, Дети 3-7 лет, '!F8","v":0},{"$f":"'[1]Дневной рацион, Дети 3-7 лет, '!G8","v":22.816},{"$f":"'[1]Дневной рацион, Дети 3-7 лет, '!H8","v":1.023},{"$f":"'[1]Дневной рацион, Дети 3-7 лет, '!I8","v":0.837}]
["Обед",{"$f":"'[1]Дневной рацион, Дети 3-7 лет, '!D9","v":"Пюре картофельное ."},{"$f":"'[1]Дневной рацион, Дети 3-7 лет, '!E9","v":100},{"$f":"'[1]Дневной рацион, Дети 3-7 лет, '!F9","v":0},{"$f":"'[1]Дневной рацион, Дети 3-7 лет, '!G9","v":143.91},{"$f":"'[1]Дневной рацион, Дети 3-7 лет, '!H9","v":2.728},{"$f":"'[1]Дневной рацион, Дети 3-7 лет, '!I9","v":5.182}]
[null,{"$f":"'[1]Дневной рацион, Дети 3-7 лет, '!D10","v":"Компот из  сушеных фруктов (изюм)."},{"$f":"'[1]Дневной рацион, Дети 3-7 лет, '!E10","v":197},{"$f":"'[1]Дневной рацион, Дети 3-7 лет, '!F10","v":0},{"$f":"'[1]Дневной рацион, Дети 3-7 лет, '!G10","v":20.134},{"$f":"'[1]Дневной рацион, Дети 3-7 лет, '!H10","v":0.355},{"$f":"'[1]Дневной рацион, Дети 3-7 лет, '!I10","v":0.02}]
[null,{"$f":"'[1]Дневной рацион, Дети 3-7 лет, '!D11","v":"Котлеты рыбные  запеченные . "},{"$f":"'[1]Дневной рацион, Дети 3-7 лет, '!E11","v":81},{"$f":"'[1]Дневной рацион, Дети 3-7 лет, '!F11","v":0},{"$f":"'[1]Дневной рацион, Дети 3-7 лет, '!G11","v":81.507},{"$f":"'[1]Дневной рацион, Дети 3-7 лет, '!H11","v":8.91},{"$f":"'[1]Дневной рацион, Дети 3-7 лет, '!I11","v":3.443}]
[null,{"$f":"'[1]Дневной рацион, Дети 3-7 лет, '!D12","v":"Хлеб  пшеничный"},{"$f":"'[1]Дневной рацион, Дети 3-7 лет, '!E12","v":40},{"$f":"'[1]Дневной рацион, Дети 3-7 лет, '!F12","v":0},{"$f":"'[1]Дневной рацион, Дети 3-7 лет, '!G12","v":0},{"$f":"'[1]Дневной рацион, Дети 3-7 лет, '!H12","v":0},{"$f":"'[1]Дневной рацион, Дети 3-7 лет, '!I12","v":0}]
[null,{"$f":"'[1]Дневной рацион, Дети 3-7 лет, '!D13","v":"Хлеб  ржаной"},{"$f":"'[1]Дневной рацион, Дети 3-7 лет, '!E13","v":39},{"$f":"'[1]Дневной рацион, Дети 3-7 лет, '!F13","v":0},{"$f":"'[1]Дневной рацион, Дети 3-7 лет, '!G13","v":0},{"$f":"'[1]Дневной рацион, Дети 3-7 лет, '!H13","v":0},{"$f":"'[1]Дневной рацион, Дети 3-7 лет, '!I13","v":0}]
[]
["Полдник",{"$f":"'[3]Дневной рацион, Дети 3-7 лет, '!D15","v":"Снежок"},{"$f":"'[3]Дневной рацион, Дети 3-7 лет, '!E15","v":179},{"$f":"'[1]Дневной рацион, Дети 3-7 лет, '!F14","v":0},{"$f":"'[1]Дневной рацион, Дети 3-7 лет, '!G14","v":215.94},{"$f":"'[1]Дневной рацион, Дети 3-7 лет, '!H14","v":3.481},{"$f":"'[1]Дневной рацион, Дети 3-7 лет, '!I14","v":0}]
[null,{"$f":"'[3]Дневной рацион, Дети 3-7 лет, '!D16","v":"Печенье весовое"},{"$f":"'[3]Дневной рацион, Дети 3-7 лет, '!E16","v":39},{"$f":"'[1]Дневной рацион, Дети 3-7 лет, '!F15","v":0},{"$f":"'[1]Дневной рацион, Дети 3-7 лет, '!G15","v":95.4},{"$f":"'[1]Дневной рацион, Дети 3-7 лет, '!H15","v":5.22},{"$f":"'[1]Дневной рацион, Дети 3-7 лет, '!I15","v":4.5}]
[]
["Ужин",{"$f":"'[1]Дневной рацион, Дети 3-7 лет, '!D16","v":"Горошница с маслом."},{"$f":"'[1]Дневной рацион, Дети 3-7 лет, '!E16","v":151},{"$f":"'[1]Дневной рацион, Дети 3-7 лет, '!F16","v":0},{"$f":"'[1]Дневной рацион, Дети 3-7 лет, '!G16","v":206.166},{"$f":"'[1]Дневной рацион, Дети 3-7 лет, '!H16","v":14.597},{"$f":"'[1]Дневной рацион, Дети 3-7 лет, '!I16","v":1.309}]
[null,{"$f":"'[1]Дневной рацион, Дети 3-7 лет, '!D17","v":"Хлеб  пшеничный"},{"$f":"'[1]Дневной рацион, Дети 3-7 лет, '!E17","v":20},{"$f":"'[1]Дневной рацион, Дети 3-7 лет, '!F17","v":0},{"$f":"'[1]Дневной рацион, Дети 3-7 лет, '!G17","v":0},{"$f":"'[1]Дневной рацион, Дети 3-7 лет, '!H17","v":0},{"$f":"'[1]Дневной рацион, Дети 3-7 лет, '!I17","v":0}]
[null,{"$f":"'[3]Дневной рацион, Дети 3-7 лет, '!D18","v":"Напиток клюквенный."},{"$f":"'[3]Дневной рацион, Дети 3-7 лет, '!E18","v":198},{"$f":"'[1]Дневной рацион, Дети 3-7 лет, '!F18","v":0},{"$f":"'[1]Дневной рацион, Дети 3-7 лет, '!G18","v":35.223},{"$f":"'[1]Дневной рацион, Дети 3-7 лет, '!H18","v":0.299},{"$f":"'[1]Дневной рацион, Дети 3-7 лет, '!I18","v":0.1}]
[null,{"$f":"'[1]Дневной рацион, Дети 3-7 лет, '!D19","v":0},{"$f":"'[1]Дневной рацион, Дети 3-7 лет, '!E19","v":0},{"$f":"'[1]Дневной рацион, Дети 3-7 лет, '!F19","v":0},{"$f":"'[1]Дневной рацион, Дети 3-7 лет, '!G19","v":0},{"$f":"'[1]Дневной рацион, Дети 3-7 лет, '!H19","v":0},{"$f":"'[1]Дневной рацион, Дети 3-7 лет, '!I19","v":0}]

{"sheet":"Дети до 3-лет","index":1,"n_rows":23,"n_cols":7,"rows_kept":23}
[]
[]
["Прием пищи","Блюдо","Выход","Калорийность","Белки","Жиры","Углеводы"]
["Завтрак",{"$f":"'[2]Дневной рацион, Дети до 3х лет'!D4","v":"Каша вязкая молочная ячневая ."},{"$f":"'[2]Дневной рацион, Дети до 3х лет'!E4","v":171},{"$f":"'[2]Дневной рацион, Дети до 3х лет'!F4","v":0},{"$f":"'[2]Дневной рацион, Дети до 3х лет'!G4","v":251.541},{"$f":"'[2]Дневной рацион, Дети до 3х лет'!H4","v":7.097},{"$f":"'[2]Дневной рацион, Дети до 3х лет'!I4","v":10.773}]
[null,{"$f":"'[2]Дневной рацион, Дети до 3х лет'!D5","v":"Бутерброды  (батон) с маслом ."},{"$f":"'[2]Дневной рацион, Дети до 3х лет'!E5","v":35},{"$f":"'[2]Дневной рацион, Дети до 3х лет'!F5","v":0},{"$f":"'[2]Дневной рацион, Дети до 3х лет'!G5","v":146},{"$f":"'[2]Дневной рацион, Дети до 3х лет'!H5","v":1.6},{"$f":"'[2]Дневной рацион, Дети до 3х лет'!I5","v":11}]
[null,{"$f":"'[2]Дневной рацион, Дети до 3х лет'!D6","v":"КОФЕЙНЫЙ НАПИТОК С МОЛОКОМ  ."},{"$f":"'[2]Дневной рацион, Дети до 3х лет'!E6","v":170},{"$f":"'[2]Дневной рацион, Дети до 3х лет'!F6","v":0},{"$f":"'[2]Дневной рацион, Дети до 3х лет'!G6","v":50.065},{"$f":"'[2]Дневной рацион, Дети до 3х лет'!H6","v":1.955},{"$f":"'[2]Дневной рацион, Дети до 3х лет'!I6","v":1.615}]
["Завтрак №2",{"$f":"'[3]Дневной рацион, Дети 3-7 лет, '!D7","v":"Соки овощные, фруктовые и ягодные."},{"$f":"'[3]Дневной рацион, Дети 3-7 лет, '!E7","v":200}]
[]
[null,{"$f":"'[2]Дневной рацион, Дети до 3х лет'!D7","v":"Рассольник ленинградский  со сметаной ."},{"$f":"'[2]Дневной рацион, Дети до 3х лет'!E7","v":177},{"$f":"'[2]Дневной рацион, Дети до 3х лет'!F7","v":0},{"$f":"'[2]Дневной рацион, Дети до 3х лет'!G7","v":111.086},{"$f":"'[2]Дневной рацион, Дети до 3х лет'!H7","v":4.195},{"$f":"'[2]Дневной рацион, Дети до 3х лет'!I7","v":5.133}]
["Обед",{"$f":"'[2]Дневной рацион, Дети до 3х лет'!D8","v":"Соус красный основной ."},{"$f":"'[2]Дневной рацион, Дети до 3х лет'!E8","v":20},{"$f":"'[2]Дневной рацион, Дети до 3х лет'!F8","v":0},{"$f":"'[2]Дневной рацион, Дети до 3х лет'!G8","v":14.72},{"$f":"'[2]Дневной рацион, Дети до 3х лет'!H8","v":0.66},{"$f":"'[2]Дневной рацион, Дети до 3х лет'!I8","v":0.54}]
[null,{"$f":"'[2]Дневной рацион, Дети до 3х лет'!D9","v":"Пюре картофельное ."},{"$f":"'[2]Дневной рацион, Дети до 3х лет'!E9","v":82},{"$f":"'[2]Дневной рацион, Дети до 3х лет'!F9","v":0},{"$f":"'[2]Дневной рацион, Дети до 3х лет'!G9","v":118.007},{"$f":"'[2]Дневной рацион, Дети до 3х лет'!H9","v":2.237},{"$f":"'[2]Дневной рацион, Дети до 3х лет'!I9","v":4.25}]
[null,{"$f":"'[2]Дневной рацион, Дети до 3х лет'!D10","v":"Компот из  сушеных фруктов (изюм)."},{"$f":"'[2]Дневной рацион, Дети до 3х лет'!E10","v":177},{"$f":"'[2]Дневной рацион, Дети до 3х лет'!F10","v":0},{"$f":"'[2]Дневной рацион, Дети до 3х лет'!G10","v":18.09},{"$f":"'[2]Дневной рацион, Дети до 3х лет'!H10","v":0.319},{"$f":"'[2]Дневной рацион, Дети до 3х лет'!I10","v":0.018}]
[null,{"$f":"'[2]Дневной рацион, Дети до 3х лет'!D11","v":"Котлеты рыбные  запеченные . "},{"$f":"'[2]Дневной рацион, Дети до 3х лет'!E11","v":51},{"$f":"'[2]Дневной рацион, Дети до 3х лет'!F11","v":0},{"$f":"'[2]Дневной рацион, Дети до 3х лет'!G11","v":51.32},{"$f":"'[2]Дневной рацион, Дети до 3х лет'!H11","v":5.61},{"$f":"'[2]Дневной рацион, Дети до 3х лет'!I11","v":2.168}]
[null,{"$f":"'[2]Дневной рацион, Дети до 3х лет'!D12","v":"Хлеб  пшеничный"},{"$f":"'[2]Дневной рацион, Дети до 3х лет'!E12","v":20},{"$f":"'[2]Дневной рацион, Дети до 3х лет'!F12","v":0},{"$f":"'[2]Дневной рацион, Дети до 3х лет'!G12","v":0},{"$f":"'[2]Дневной рацион, Дети до 3х лет'!H12","v":0},{"$f":"'[2]Дневной рацион, Дети до 3х лет'!I12","v":0}]
[null,{"$f":"'[2]Дневной рацион, Дети до 3х лет'!D13","v":"Хлеб  ржаной"},{"$f":"'[2]Дневной рацион, Дети до 3х лет'!E13","v":23},{"$f":"'[2]Дневной рацион, Дети до 3х лет'!F13","v":0},{"$f":"'[2]Дневной рацион, Дети до 3х лет'!G13","v":0},{"$f":"'[2]Дневной рацион, Дети до 3х лет'!H13","v":0},{"$f":"'[2]Дневной рацион, Дети до 3х лет'!I13","v":0}]
[]
["Полдник",{"$f":"'[3]Дневной рацион, Дети 3-7 лет, '!D15","v":"Снежок"},{"$f":"'[3]Дневной рацион, Дети 3-7 лет, '!E15","v":179},{"$f":"'[2]Дневной рацион, Дети до 3х лет'!F14","v":0},{"$f":"'[2]Дневной рацион, Дети до 3х лет'!G14","v":146.4},{"$f":"'[2]Дневной рацион, Дети до 3х лет'!H14","v":2.36},{"$f":"'[2]Дневной рацион, Дети до 3х лет'!I14","v":0}]
[null,{"$f":"'[3]Дневной рацион, Дети 3-7 лет, '!D16","v":"Печенье весовое"},{"$f":"'[3]Дневной рацион, Дети 3-7 лет, '!E16","v":39},{"$f":"'[2]Дневной рацион, Дети до 3х лет'!F15","v":0},{"$f":"'[2]Дневной рацион, Дети до 3х лет'!G15","v":90.1},{"$f":"'[2]Дневной рацион, Дети до 3х лет'!H15","v":4.93},{"$f":"'[2]Дневной рацион, Дети до 3х лет'!I15","v":4.25}]
[]
["Ужин",{"$f":"'[2]Дневной рацион, Дети до 3х лет'!D16","v":"Горошница с маслом."},{"$f":"'[2]Дневной рацион, Дети до 3х лет'!E16","v":101},{"$f":"'[2]Дневной рацион, Дети до 3х лет'!F16","v":0},{"$f":"'[2]Дневной рацион, Дети до 3х лет'!G16","v":137.9},{"$f":"'[2]Дневной рацион, Дети до 3х лет'!H16","v":9.764},{"$f":"'[2]Дневной рацион, Дети до 3х лет'!I16","v":0.876}]
[null,{"$f":"'[2]Дневной рацион, Дети до 3х лет'!D17","v":"Хлеб  пшеничный"},{"$f":"'[2]Дневной рацион, Дети до 3х лет'!E17","v":20},{"$f":"'[2]Дневной рацион, Дети до 3х лет'!F17","v":0},{"$f":"'[2]Дневной рацион, Дети до 3х лет'!G17","v":0},{"$f":"'[2]Дневной рацион, Дети до 3х лет'!H17","v":0},{"$f":"'[2]Дневной рацион, Дети до 3х лет'!I17","v":0}]
[null,{"$f":"'[3]Дневной рацион, Дети 3-7 лет, '!D18","v":"Напиток клюквенный."},{"$f":"'[3]Дневной рацион, Дети 3-7 лет, '!E18","v":198},{"$f":"'[2]Дневной рацион, Дети до 3х лет'!F18","v":0},{"$f":"'[2]Дневной рацион, Дети до 3х лет'!G18","v":29.913},{"$f":"'[2]Дневной рацион, Дети до 3х лет'!H18","v":0.254},{"$f":"'[2]Дневной рацион, Дети до 3х лет'!I18","v":0.085}]
[null,{"$f":"'[2]Дневной рацион, Дети до 3х лет'!D19","v":0},{"$f":"'[2]Дневной рацион, Дети до 3х лет'!E19","v":0},{"$f":"'[2]Дневной рацион, Дети до 3х лет'!F19","v":0},{"$f":"'[2]Дневной рацион, Дети до 3х лет'!G19","v":0},{"$f":"'[2]Дневной рацион, Дети до 3х лет'!H19","v":0},{"$f":"'[2]Дневной рацион, Дети до 3х лет'!I19","v":0}]