{"text_format":"3","workbook":"xlsx","n_sheets":2,"sheets":[" Дети до 3-х лет","Дети 3-7 лет"],"not_rendered":{"images":3,"external_links":5},"read":"whole","date_system":"1900"}

{"sheet":" Дети до 3-х лет","index":0,"n_rows":18,"n_cols":7,"rows_kept":18,"merged":[[0,3,0,4]]}
[null," МБДОУ д/с № 362"]
["Прием пищи","Блюдо","Выход","Калорийность","Белки","Жиры","Углеводы"]
["Завтрак",{"$f":"'[1]Дневной рацион, Дети до 3х лет'!D4","v":"Каша вязкая молочная  пшенная."},{"$f":"'[2]Дневной рацион, Дети до 3х лет'!E4","v":176},{"$f":"'[1]Дневной рацион, Дети до 3х лет'!G4","v":175.27},{"$f":"'[1]Дневной рацион, Дети до 3х лет'!H4","v":5.355},{"$f":"'[1]Дневной рацион, Дети до 3х лет'!I4","v":6.46},{"$f":"'[1]Дневной рацион, Дети до 3х лет'!J4","v":23.97}]
[null,{"$f":"'[1]Дневной рацион, Дети до 3х лет'!D5","v":"Бутерброды с маслом ."},{"$f":"'[2]Дневной рацион, Дети до 3х лет'!E5","v":25},{"$f":"'[1]Дневной рацион, Дети до 3х лет'!G5","v":121.667},{"$f":"'[1]Дневной рацион, Дети до 3х лет'!H5","v":1.334},{"$f":"'[1]Дневной рацион, Дети до 3х лет'!I5","v":9.167},{"$f":"'[1]Дневной рацион, Дети до 3х лет'!J5","v":8.334}]
[null,{"$f":"'[1]Дневной рацион, Дети до 3х лет'!D6","v":"Сыр "},{"$f":"'[2]Дневной рацион, Дети до 3х лет'!E6","v":180},{"$f":"'[1]Дневной рацион, Дети до 3х лет'!G6","v":120.01},{"$f":"'[1]Дневной рацион, Дети до 3х лет'!H6","v":7.7},{"$f":"'[1]Дневной рацион, Дети до 3х лет'!I6","v":9.9},{"$f":"'[1]Дневной рацион, Дети до 3х лет'!J6","v":0}]
[null,{"$f":"'[1]Дневной рацион, Дети до 3х лет'!D7","v":"КОФЕЙНЫЙ НАПИТОК С МОЛОКОМ  ."},null,{"$f":"'[1]Дневной рацион, Дети до 3х лет'!G7","v":50.065},{"$f":"'[1]Дневной рацион, Дети до 3х лет'!H7","v":1.955},{"$f":"'[1]Дневной рацион, Дети до 3х лет'!I7","v":1.615},{"$f":"'[1]Дневной рацион, Дети до 3х лет'!J7","v":6.97}]
["Обед",{"$f":"'[3]Дневной рацион, Дети 3-7 лет, '!D8","v":"Суп картофельный с крупой гречневой."},{"$f":"'[5]Дневной рацион, Дети до 3х лет'!E8","v":170},{"$f":"'[5]Дневной рацион, Дети до 3х лет'!F8","v":0},{"$f":"'[5]Дневной рацион, Дети до 3х лет'!G8","v":59.33},{"$f":"'[5]Дневной рацион, Дети до 3х лет'!H8","v":1.513},{"$f":"'[5]Дневной рацион, Дети до 3х лет'!I8","v":1.853}]
[null,{"$f":"'[3]Дневной рацион, Дети 3-7 лет, '!D9","v":"Печень говяжья по-строгановски."},{"$f":"'[5]Дневной рацион, Дети до 3х лет'!E9","v":60},{"$f":"'[5]Дневной рацион, Дети до 3х лет'!F9","v":0},{"$f":"'[5]Дневной рацион, Дети до 3х лет'!G9","v":170.28},{"$f":"'[5]Дневной рацион, Дети до 3х лет'!H9","v":12.12},{"$f":"'[5]Дневной рацион, Дети до 3х лет'!I9","v":11.28}]
[null,{"$f":"'[3]Дневной рацион, Дети 3-7 лет, '!D10","v":"Пюре картофельное ."},{"$f":"'[5]Дневной рацион, Дети до 3х лет'!E10","v":100},{"$f":"'[5]Дневной рацион, Дети до 3х лет'!F10","v":0},{"$f":"'[5]Дневной рацион, Дети до 3х лет'!G10","v":143.91},{"$f":"'[5]Дневной рацион, Дети до 3х лет'!H10","v":2.728},{"$f":"'[5]Дневной рацион, Дети до 3х лет'!I10","v":5.182}]
[null,{"$f":"'[3]Дневной рацион, Дети 3-7 лет, '!D11","v":"Компот из  сушеных фруктов (изюм)."},{"$f":"'[5]Дневной рацион, Дети до 3х лет'!E11","v":177},{"$f":"'[5]Дневной рацион, Дети до 3х лет'!F11","v":0},{"$f":"'[5]Дневной рацион, Дети до 3х лет'!G11","v":18.09},{"$f":"'[5]Дневной рацион, Дети до 3х лет'!H11","v":0.319},{"$f":"'[5]Дневной рацион, Дети до 3х лет'!I11","v":0.018}]
[null,{"$f":"'[3]Дневной рацион, Дети 3-7 лет, '!D12","v":"Хлеб  пшеничный"},{"$f":"'[5]Дневной рацион, Дети до 3х лет'!E12","v":30},{"$f":"'[5]Дневной рацион, Дети до 3х лет'!F12","v":0},{"$f":"'[5]Дневной рацион, Дети до 3х лет'!G12","v":0},{"$f":"'[5]Дневной рацион, Дети до 3х лет'!H12","v":0},{"$f":"'[5]Дневной рацион, Дети до 3х лет'!I12","v":0}]
[null,{"$f":"'[3]Дневной рацион, Дети 3-7 лет, '!D13","v":"Хлеб  ржаной"},{"$f":"'[5]Дневной рацион, Дети до 3х лет'!E13","v":30},{"$f":"'[5]Дневной рацион, Дети до 3х лет'!F13","v":0},{"$f":"'[5]Дневной рацион, Дети до 3х лет'!G13","v":0},{"$f":"'[5]Дневной рацион, Дети до 3х лет'!H13","v":0},{"$f":"'[5]Дневной рацион, Дети до 3х лет'!I13","v":0}]
["Полдник",{"$f":"'[3]Дневной рацион, Дети 3-7 лет, '!D14","v":"Булочка дорожная ."},{"$f":"'[5]Дневной рацион, Дети до 3х лет'!E14","v":51},{"$f":"'[5]Дневной рацион, Дети до 3х лет'!F14","v":0},{"$f":"'[5]Дневной рацион, Дети до 3х лет'!G14","v":169.32},{"$f":"'[5]Дневной рацион, Дети до 3х лет'!H14","v":3.57},{"$f":"'[5]Дневной рацион, Дети до 3х лет'!I14","v":1.428}]
[null,{"$f":"'[3]Дневной рацион, Дети 3-7 лет, '!D15","v":"Молоко кипяченое"},{"$f":"'[5]Дневной рацион, Дети до 3х лет'!E15","v":179},{"$f":"'[5]Дневной рацион, Дети до 3х лет'!F15","v":0},{"$f":"'[5]Дневной рацион, Дети до 3х лет'!G15","v":94.87},{"$f":"'[5]Дневной рацион, Дети до 3х лет'!H15","v":5.191},{"$f":"'[5]Дневной рацион, Дети до 3х лет'!I15","v":4.475}]
["Ужин",{"$f":"'[3]Дневной рацион, Дети 3-7 лет, '!D16","v":"Кисель витаминизированный Витошка."},{"$f":"'[5]Дневной рацион, Дети до 3х лет'!E16","v":175},{"$f":"'[5]Дневной рацион, Дети до 3х лет'!F16","v":0},{"$f":"'[5]Дневной рацион, Дети до 3х лет'!G16","v":46.725},{"$f":"'[5]Дневной рацион, Дети до 3х лет'!H16","v":0.175},{"$f":"'[5]Дневной рацион, Дети до 3х лет'!I16","v":0}]
[null,{"$f":"'[3]Дневной рацион, Дети 3-7 лет, '!D17","v":"Хлеб  пшеничный"},{"$f":"'[5]Дневной рацион, Дети до 3х лет'!E17","v":20},{"$f":"'[5]Дневной рацион, Дети до 3х лет'!F17","v":0},{"$f":"'[5]Дневной рацион, Дети до 3х лет'!G17","v":0},{"$f":"'[5]Дневной рацион, Дети до 3х лет'!H17","v":0},{"$f":"'[5]Дневной рацион, Дети до 3х лет'!I17","v":0}]
[null,{"$f":"'[3]Дневной рацион, Дети 3-7 лет, '!D18","v":"Каша вязкая молочная овсяная с курагой."},{"$f":"'[5]Дневной рацион, Дети до 3х лет'!E18","v":150},{"$f":"'[5]Дневной рацион, Дети до 3х лет'!F18","v":0},{"$f":"'[5]Дневной рацион, Дети до 3х лет'!G18","v":236.25},{"$f":"'[5]Дневной рацион, Дети до 3х лет'!H18","v":6.6},{"$f":"'[5]Дневной рацион, Дети до 3х лет'!I18","v":9.525}]
[null,{"$f":"'[3]Дневной рацион, Дети 3-7 лет, '!D19","v":0},{"$f":"'[5]Дневной рацион, Дети до 3х лет'!E19","v":0},{"$f":"'[5]Дневной рацион, Дети до 3х лет'!F19","v":0},{"$f":"'[5]Дневной рацион, Дети до 3х лет'!G19","v":0},{"$f":"'[5]Дневной рацион, Дети до 3х лет'!H19","v":0},{"$f":"'[5]Дневной рацион, Дети до 3х лет'!I19","v":0}]

{"sheet":"Дети 3-7 лет","index":1,"n_rows":21,"n_cols":7,"rows_kept":21}
[]
[]
["Прием пищи","Блюдо","Выход","Калорийность","Белки","Жиры","Углеводы"]
["Завтрак",{"$f":"'[4]Дневной рацион, Дети 3-7 лет, '!D4","v":"Каша вязкая молочная  пшенная."},{"$f":"'[4]Дневной рацион, Дети 3-7 лет, '!E4","v":200},{"$f":"'[4]Дневной рацион, Дети 3-7 лет, '!G4","v":206.2},{"$f":"'[4]Дневной рацион, Дети 3-7 лет, '!H4","v":6.3},{"$f":"'[4]Дневной рацион, Дети 3-7 лет, '!I4","v":7.6},{"$f":"'[4]Дневной рацион, Дети 3-7 лет, '!J4","v":28.2}]
[null,{"$f":"'[4]Дневной рацион, Дети 3-7 лет, '!D5","v":"Бутерброды с маслом ."},{"$f":"'[4]Дневной рацион, Дети 3-7 лет, '!E5","v":25},{"$f":"'[4]Дневной рацион, Дети 3-7 лет, '!G5","v":121.667},{"$f":"'[4]Дневной рацион, Дети 3-7 лет, '!H5","v":1.334},{"$f":"'[4]Дневной рацион, Дети 3-7 лет, '!I5","v":9.167},{"$f":"'[4]Дневной рацион, Дети 3-7 лет, '!J5","v":8.334}]
[null,{"$f":"'[4]Дневной рацион, Дети 3-7 лет, '!D6","v":"Сыр "},{"$f":"'[4]Дневной рацион, Дети 3-7 лет, '!E6","v":12},{"$f":"'[4]Дневной рацион, Дети 3-7 лет, '!G6","v":130.92},{"$f":"'[4]Дневной рацион, Дети 3-7 лет, '!H6","v":8.4},{"$f":"'[4]Дневной рацион, Дети 3-7 лет, '!I6","v":10.8},{"$f":"'[4]Дневной рацион, Дети 3-7 лет, '!J6","v":0}]
[null,{"$f":"'[4]Дневной рацион, Дети 3-7 лет, '!D7","v":"КОФЕЙНЫЙ НАПИТОК С МОЛОКОМ  ."},{"$f":"'[4]Дневной рацион, Дети 3-7 лет, '!E7","v":200},{"$f":"'[4]Дневной рацион, Дети 3-7 лет, '!G7","v":58.9},{"$f":"'[4]Дневной рацион, Дети 3-7 лет, '!H7","v":2.3},{"$f":"'[4]Дневной рацион, Дети 3-7 лет, '!I7","v":1.9},{"$f":"'[4]Дневной рацион, Дети 3-7 лет, '!J7","v":8.2}]
["Завтарк №2"]
[]
[null,{"$f":"' Дети до 3-х лет'!B7","v":"Суп картофельный с крупой гречневой."},{"$f":"' Дети до 3-х лет'!C7","v":170},{"$f":"'[4]Дневной рацион, Дети 3-7 лет, '!G8","v":16.049},{"$f":"'[4]Дневной рацион, Дети 3-7 лет, '!H8","v":0.614},{"$f":"'[4]Дневной рацион, Дети 3-7 лет, '!I8","v":0.103},{"$f":"'[4]Дневной рацион, Дети 3-7 лет, '!J8","v":3.169}]
["Обед",{"$f":"' Дети до 3-х лет'!B8","v":"Печень говяжья по-строгановски."},{"$f":"' Дети до 3-х лет'!C8","v":60},{"$f":"'[3]Дневной рацион, Дети 3-7 лет, '!G8","v":69.8},{"$f":"'[3]Дневной рацион, Дети 3-7 лет, '!H8","v":1.78},{"$f":"'[3]Дневной рацион, Дети 3-7 лет, '!I8","v":2.18},{"$f":"'[3]Дневной рацион, Дети 3-7 лет, '!J8","v":10.74}]
[null,{"$f":"' Дети до 3-х лет'!B9","v":"Пюре картофельное ."},{"$f":"' Дети до 3-х лет'!C9","v":100},{"$f":"'[3]Дневной рацион, Дети 3-7 лет, '!G9","v":198.66},{"$f":"'[3]Дневной рацион, Дети 3-7 лет, '!H9","v":14.14},{"$f":"'[3]Дневной рацион, Дети 3-7 лет, '!I9","v":13.16},{"$f":"'[3]Дневной рацион, Дети 3-7 лет, '!J9","v":5.6}]
[null,{"$f":"' Дети до 3-х лет'!B10","v":"Компот из  сушеных фруктов (изюм)."},{"$f":"' Дети до 3-х лет'!C10","v":177},{"$f":"'[3]Дневной рацион, Дети 3-7 лет, '!G10","v":172.691},{"$f":"'[3]Дневной рацион, Дети 3-7 лет, '!H10","v":3.273},{"$f":"'[3]Дневной рацион, Дети 3-7 лет, '!I10","v":6.219},{"$f":"'[3]Дневной рацион, Дети 3-7 лет, '!J10","v":25.855}]
[null,{"$f":"' Дети до 3-х лет'!B11","v":"Хлеб  пшеничный"},{"$f":"' Дети до 3-х лет'!C11","v":30},{"$f":"'[3]Дневной рацион, Дети 3-7 лет, '!G11","v":20.134},{"$f":"'[3]Дневной рацион, Дети 3-7 лет, '!H11","v":0.355},{"$f":"'[3]Дневной рацион, Дети 3-7 лет, '!I11","v":0.02},{"$f":"'[3]Дневной рацион, Дети 3-7 лет, '!J11","v":4.63}]
[null,{"$f":"' Дети до 3-х лет'!B12","v":"Хлеб  ржаной"},{"$f":"' Дети до 3-х лет'!C12","v":30},{"$f":"'[3]Дневной рацион, Дети 3-7 лет, '!G12","v":0},{"$f":"'[3]Дневной рацион, Дети 3-7 лет, '!H12","v":0},{"$f":"'[3]Дневной рацион, Дети 3-7 лет, '!I12","v":0},{"$f":"'[3]Дневной рацион, Дети 3-7 лет, '!J12","v":0}]
[null,{"$f":"' Дети до 3-х лет'!B13","v":"Булочка дорожная ."},{"$f":"' Дети до 3-х лет'!C13","v":51},{"$f":"'[3]Дневной рацион, Дети 3-7 лет, '!G13","v":0},{"$f":"'[3]Дневной рацион, Дети 3-7 лет, '!H13","v":0},{"$f":"'[3]Дневной рацион, Дети 3-7 лет, '!I13","v":0},{"$f":"'[3]Дневной рацион, Дети 3-7 лет, '!J13","v":0}]
[null,{"$f":"' Дети до 3-х лет'!B14","v":"Молоко кипяченое"},{"$f":"' Дети до 3-х лет'!C14","v":179},{"$f":"'[3]Дневной рацион, Дети 3-7 лет, '!G14","v":169.32},{"$f":"'[3]Дневной рацион, Дети 3-7 лет, '!H14","v":3.57},{"$f":"'[3]Дневной рацион, Дети 3-7 лет, '!I14","v":1.428},{"$f":"'[3]Дневной рацион, Дети 3-7 лет, '!J14","v":35.496}]
["Полдник",{"$f":"' Дети до 3-х лет'!B15","v":"Кисель витаминизированный Витошка."},{"$f":"' Дети до 3-х лет'!C15","v":175},{"$f":"'[3]Дневной рацион, Дети 3-7 лет, '!G15","v":94.87},{"$f":"'[3]Дневной рацион, Дети 3-7 лет, '!H15","v":5.191},{"$f":"'[3]Дневной рацион, Дети 3-7 лет, '!I15","v":4.475},{"$f":"'[3]Дневной рацион, Дети 3-7 лет, '!J15","v":8.592}]
[null,{"$f":"' Дети до 3-х лет'!B16","v":"Хлеб  пшеничный"},{"$f":"' Дети до 3-х лет'!C16","v":20},{"$f":"'[3]Дневной рацион, Дети 3-7 лет, '!G16","v":55.002},{"$f":"'[3]Дневной рацион, Дети 3-7 лет, '!H16","v":0.206},{"$f":"'[3]Дневной рацион, Дети 3-7 лет, '!I16","v":0},{"$f":"'[3]Дневной рацион, Дети 3-7 лет, '!J16","v":13.596}]
[null,{"$f":"' Дети до 3-х лет'!B17","v":"Каша вязкая молочная овсяная с курагой."},{"$f":"' Дети до 3-х лет'!C17","v":150},{"$f":"'[3]Дневной рацион, Дети 3-7 лет, '!G17","v":0},{"$f":"'[3]Дневной рацион, Дети 3-7 лет, '!H17","v":0},{"$f":"'[3]Дневной рацион, Дети 3-7 лет, '!I17","v":0},{"$f":"'[3]Дневной рацион, Дети 3-7 лет, '!J17","v":0}]
["Ужин",{"$f":"' Дети до 3-х лет'!B18","v":0},{"$f":"' Дети до 3-х лет'!C18","v":0},{"$f":"'[3]Дневной рацион, Дети 3-7 лет, '!G18","v":313.425},{"$f":"'[3]Дневной рацион, Дети 3-7 лет, '!H18","v":8.756},{"$f":"'[3]Дневной рацион, Дети 3-7 лет, '!I18","v":12.637},{"$f":"'[3]Дневной рацион, Дети 3-7 лет, '!J18","v":41.293}]