{"text_format":"3","workbook":"xlsx","n_sheets":2,"sheets":[" Дети 3-7 лет","Дети до 3-лет"],"not_rendered":{"images":3,"external_links":2},"read":"whole","date_system":"1900"}

{"sheet":" Дети 3-7 лет","index":0,"n_rows":22,"n_cols":7,"rows_kept":22,"merged":[[0,3,0,4]]}
[null," МБДОУ д/с № 362"]
["Прием пищи","Блюдо","Выход","Калорийность","Белки","Жиры","Углеводы"]
["Завтрак",{"$f":"'[1]Дневной рацион, Дети 3-7 лет, '!D4","v":"Каша жидкая молочная кукурузная на сухом молоке."},{"$f":"'[1]Дневной рацион, Дети 3-7 лет, '!E4","v":201},{"$f":"'Дети до 3-лет'!D4","v":133.209},{"$f":"'Дети до 3-лет'!E4","v":3.677},{"$f":"'Дети до 3-лет'!F4","v":3.762},{"$f":"'Дети до 3-лет'!G4","v":21.119}]
[null,{"$f":"'[1]Дневной рацион, Дети 3-7 лет, '!D5","v":"Бутерброды с маслом ."},{"$f":"'[1]Дневной рацион, Дети 3-7 лет, '!E5","v":25},{"$f":"'Дети до 3-лет'!D5","v":121.667},{"$f":"'Дети до 3-лет'!E5","v":1.334},{"$f":"'Дети до 3-лет'!F5","v":9.167},{"$f":"'Дети до 3-лет'!G5","v":8.334}]
[null,{"$f":"'[1]Дневной рацион, Дети 3-7 лет, '!D6","v":"Чай с сахаром ."},{"$f":"'[1]Дневной рацион, Дети 3-7 лет, '!E6","v":200},{"$f":"'Дети до 3-лет'!D6","v":51.3},{"$f":"'Дети до 3-лет'!E6","v":0.18},{"$f":"'Дети до 3-лет'!F6","v":0},{"$f":"'Дети до 3-лет'!G6","v":13.5}]
["Завтрак №2"]
[]
["Обед",{"$f":"'[1]Дневной рацион, Дети 3-7 лет, '!D7","v":"Суп картофельный с бобовыми (горох)"},{"$f":"'[1]Дневной рацион, Дети 3-7 лет, '!E7","v":196},{"$f":"'Дети до 3-лет'!D11","v":13.755},{"$f":"'Дети до 3-лет'!E11","v":0.567},{"$f":"'Дети до 3-лет'!F11","v":0.882},{"$f":"'Дети до 3-лет'!G11","v":0.924}]
[null,{"$f":"'[1]Дневной рацион, Дети 3-7 лет, '!D8","v":"Макароны отварные с маслом."},{"$f":"'[1]Дневной рацион, Дети 3-7 лет, '!E8","v":111},{"$f":"'Дети до 3-лет'!D12","v":16.59},{"$f":"'Дети до 3-лет'!E12","v":0.107},{"$f":"'Дети до 3-лет'!F12","v":0},{"$f":"'Дети до 3-лет'!G12","v":4.041}]
[null,{"$f":"'[1]Дневной рацион, Дети 3-7 лет, '!D9","v":"Соус белый основной ."},{"$f":"'[1]Дневной рацион, Дети 3-7 лет, '!E9","v":31},{"$f":"'Дети до 3-лет'!D13","v":147.267},{"$f":"'Дети до 3-лет'!E13","v":11.045},{"$f":"'Дети до 3-лет'!F13","v":9.33},{"$f":"'Дети до 3-лет'!G13","v":4.857}]
[null,{"$f":"'[1]Дневной рацион, Дети 3-7 лет, '!D10","v":"Компот из смеси сухофруктов ."},{"$f":"'[1]Дневной рацион, Дети 3-7 лет, '!E10","v":198},{"$f":"'Дети до 3-лет'!D14","v":0},{"$f":"'Дети до 3-лет'!E14","v":0},{"$f":"'Дети до 3-лет'!F14","v":0},{"$f":"'Дети до 3-лет'!G14","v":0}]
[null,{"$f":"'[1]Дневной рацион, Дети 3-7 лет, '!D11","v":"Шницель  рубленный из говядины."},{"$f":"'[1]Дневной рацион, Дети 3-7 лет, '!E11","v":56},{"$f":"'Дети до 3-лет'!D15","v":0},{"$f":"'Дети до 3-лет'!E15","v":0},{"$f":"'Дети до 3-лет'!F15","v":0},{"$f":"'Дети до 3-лет'!G15","v":0}]
[null,{"$f":"'[1]Дневной рацион, Дети 3-7 лет, '!D12","v":"Хлеб  пшеничный"},{"$f":"'[1]Дневной рацион, Дети 3-7 лет, '!E12","v":40},{"$f":"'Дети до 3-лет'!D17","v":138.334},{"$f":"'Дети до 3-лет'!E17","v":2.917},{"$f":"'Дети до 3-лет'!F17","v":1.167},{"$f":"'Дети до 3-лет'!G17","v":29}]
[null,{"$f":"'[1]Дневной рацион, Дети 3-7 лет, '!D13","v":"Хлеб  ржаной"},{"$f":"'[1]Дневной рацион, Дети 3-7 лет, '!E13","v":33},{"$f":"'Дети до 3-лет'!D18","v":95.4},{"$f":"'Дети до 3-лет'!E18","v":5.22},{"$f":"'Дети до 3-лет'!F18","v":4.5},{"$f":"'Дети до 3-лет'!G18","v":8.64}]
[]
["Полдник",{"$f":"'[1]Дневной рацион, Дети 3-7 лет, '!D14","v":"Ватрушки с повидлом."},{"$f":"'[1]Дневной рацион, Дети 3-7 лет, '!E14","v":60},{"$f":"'Дети до 3-лет'!D21","v":55.301},{"$f":"'Дети до 3-лет'!E21","v":2.161},{"$f":"'Дети до 3-лет'!F21","v":1.785},{"$f":"'Дети до 3-лет'!G21","v":7.7}]
[null,{"$f":"'[1]Дневной рацион, Дети 3-7 лет, '!D15","v":"Молоко кипяченое"},{"$f":"'[1]Дневной рацион, Дети 3-7 лет, '!E15","v":180},{"$f":"'Дети до 3-лет'!D22","v":0},{"$f":"'Дети до 3-лет'!E22","v":0},{"$f":"'Дети до 3-лет'!F22","v":0},{"$f":"'Дети до 3-лет'!G22","v":0}]
[]
["Ужин",{"$f":"'[1]Дневной рацион, Дети 3-7 лет, '!D16","v":"Суп с рыбными консервами ."},{"$f":"'[1]Дневной рацион, Дети 3-7 лет, '!E16","v":194},{"$f":"'Дети до 3-лет'!#REF!","v":{"$error":"#REF!"}},{"$f":"'Дети до 3-лет'!#REF!","v":{"$error":"#REF!"}},{"$f":"'Дети до 3-лет'!#REF!","v":{"$error":"#REF!"}},{"$f":"'Дети до 3-лет'!#REF!","v":{"$error":"#REF!"}}]
[null,{"$f":"'[1]Дневной рацион, Дети 3-7 лет, '!D17","v":"напиток из шиповника."},{"$f":"'[1]Дневной рацион, Дети 3-7 лет, '!E17","v":198},{"$f":"'Дети до 3-лет'!#REF!","v":{"$error":"#REF!"}},{"$f":"'Дети до 3-лет'!#REF!","v":{"$error":"#REF!"}},{"$f":"'Дети до 3-лет'!#REF!","v":{"$error":"#REF!"}},{"$f":"'Дети до 3-лет'!#REF!","v":{"$error":"#REF!"}}]
[null,{"$f":"'[1]Дневной рацион, Дети 3-7 лет, '!D18","v":"Хлеб  пшеничный"},{"$f":"'[1]Дневной рацион, Дети 3-7 лет, '!E18","v":20},{"$f":"'Дети до 3-лет'!#REF!","v":{"$error":"#REF!"}},{"$f":"'Дети до 3-лет'!#REF!","v":{"$error":"#REF!"}},{"$f":"'Дети до 3-лет'!#REF!","v":{"$error":"#REF!"}},{"$f":"'Дети до 3-лет'!#REF!","v":{"$error":"#REF!"}}]
[null,{"$f":"'[1]Дневной рацион, Дети 3-7 лет, '!D19","v":0},{"$f":"'[1]Дневной рацион, Дети 3-7 лет, '!E19","v":0},{"$f":"'Дети до 3-лет'!#REF!","v":{"$error":"#REF!"}},{"$f":"'Дети до 3-лет'!#REF!","v":{"$error":"#REF!"}},{"$f":"'Дети до 3-лет'!#REF!","v":{"$error":"#REF!"}},{"$f":"'Дети до 3-лет'!#REF!","v":{"$error":"#REF!"}}]

{"sheet":"Дети до 3-лет","index":1,"n_rows":22,"n_cols":7,"rows_kept":22}
[]
[]
["Прием пищи","Блюдо","Выход","Калорийность","Белки","Жиры","Углеводы"]
["Завтрак",{"$f":"'[2]Дневной рацион, Дети до 3х лет'!D4","v":"Каша жидкая молочная кукурузная на сухом молоке."},{"$f":"'[2]Дневной рацион, Дети до 3х лет'!E4","v":171},{"$f":"'[2]Дневной рацион, Дети до 3х лет'!G4","v":133.209},{"$f":"'[2]Дневной рацион, Дети до 3х лет'!H4","v":3.677},{"$f":"'[2]Дневной рацион, Дети до 3х лет'!I4","v":3.762},{"$f":"'[2]Дневной рацион, Дети до 3х лет'!J4","v":21.119}]
[null,{"$f":"'[2]Дневной рацион, Дети до 3х лет'!D5","v":"Бутерброды с маслом ."},{"$f":"'[2]Дневной рацион, Дети до 3х лет'!E5","v":25},{"$f":"'[2]Дневной рацион, Дети до 3х лет'!G5","v":121.667},{"$f":"'[2]Дневной рацион, Дети до 3х лет'!H5","v":1.334},{"$f":"'[2]Дневной рацион, Дети до 3х лет'!I5","v":9.167},{"$f":"'[2]Дневной рацион, Дети до 3х лет'!J5","v":8.334}]
[null,{"$f":"'[2]Дневной рацион, Дети до 3х лет'!D6","v":"Чай с сахаром ."},{"$f":"'[2]Дневной рацион, Дети до 3х лет'!E6","v":180},{"$f":"'[2]Дневной рацион, Дети до 3х лет'!G6","v":51.3},{"$f":"'[2]Дневной рацион, Дети до 3х лет'!H6","v":0.18},{"$f":"'[2]Дневной рацион, Дети до 3х лет'!I6","v":0},{"$f":"'[2]Дневной рацион, Дети до 3х лет'!J6","v":13.5}]
["Завтрак №2"]
[]
["Обед",{"$f":"'[2]Дневной рацион, Дети до 3х лет'!D7","v":"Суп картофельный с бобовыми (горох)"},{"$f":"'[2]Дневной рацион, Дети до 3х лет'!E7","v":177},{"$f":"'[2]Дневной рацион, Дети до 3х лет'!G7","v":124.874},{"$f":"'[2]Дневной рацион, Дети до 3х лет'!H7","v":6.284},{"$f":"'[2]Дневной рацион, Дети до 3х лет'!I7","v":3.824},{"$f":"'[2]Дневной рацион, Дети до 3х лет'!J7","v":16.338}]
[null,{"$f":"'[2]Дневной рацион, Дети до 3х лет'!D8","v":"Макароны отварные с маслом."},{"$f":"'[2]Дневной рацион, Дети до 3х лет'!E8","v":91},{"$f":"'[2]Дневной рацион, Дети до 3х лет'!G8","v":149.24},{"$f":"'[2]Дневной рацион, Дети до 3х лет'!H8","v":4.095},{"$f":"'[2]Дневной рацион, Дети до 3х лет'!I8","v":3.716},{"$f":"'[2]Дневной рацион, Дети до 3х лет'!J8","v":24.874}]
[null,{"$f":"'[2]Дневной рацион, Дети до 3х лет'!D9","v":"Соус белый основной ."},{"$f":"'[2]Дневной рацион, Дети до 3х лет'!E9","v":21},{"$f":"'[2]Дневной рацион, Дети до 3х лет'!G9","v":13.755},{"$f":"'[2]Дневной рацион, Дети до 3х лет'!H9","v":0.567},{"$f":"'[2]Дневной рацион, Дети до 3х лет'!I9","v":0.882},{"$f":"'[2]Дневной рацион, Дети до 3х лет'!J9","v":0.924}]
[null,{"$f":"'[2]Дневной рацион, Дети до 3х лет'!D10","v":"Компот из смеси сухофруктов ."},{"$f":"'[2]Дневной рацион, Дети до 3х лет'!E10","v":178},{"$f":"'[2]Дневной рацион, Дети до 3х лет'!G10","v":16.59},{"$f":"'[2]Дневной рацион, Дети до 3х лет'!H10","v":0.107},{"$f":"'[2]Дневной рацион, Дети до 3х лет'!I10","v":0},{"$f":"'[2]Дневной рацион, Дети до 3х лет'!J10","v":4.041}]
[null,{"$f":"'[2]Дневной рацион, Дети до 3х лет'!D11","v":"Шницель  рубленный из говядины."},{"$f":"'[2]Дневной рацион, Дети до 3х лет'!E11","v":47},{"$f":"'[2]Дневной рацион, Дети до 3х лет'!G11","v":147.267},{"$f":"'[2]Дневной рацион, Дети до 3х лет'!H11","v":11.045},{"$f":"'[2]Дневной рацион, Дети до 3х лет'!I11","v":9.33},{"$f":"'[2]Дневной рацион, Дети до 3х лет'!J11","v":4.857}]
[null,{"$f":"'[2]Дневной рацион, Дети до 3х лет'!D12","v":"Хлеб  пшеничный"},{"$f":"'[2]Дневной рацион, Дети до 3х лет'!E12","v":30},{"$f":"'[2]Дневной рацион, Дети до 3х лет'!G12","v":0},{"$f":"'[2]Дневной рацион, Дети до 3х лет'!H12","v":0},{"$f":"'[2]Дневной рацион, Дети до 3х лет'!I12","v":0},{"$f":"'[2]Дневной рацион, Дети до 3х лет'!J12","v":0}]
[null,{"$f":"'[2]Дневной рацион, Дети до 3х лет'!D13","v":"Хлеб  ржаной"},{"$f":"'[2]Дневной рацион, Дети до 3х лет'!E13","v":28},{"$f":"'[2]Дневной рацион, Дети до 3х лет'!G13","v":0},{"$f":"'[2]Дневной рацион, Дети до 3х лет'!H13","v":0},{"$f":"'[2]Дневной рацион, Дети до 3х лет'!I13","v":0},{"$f":"'[2]Дневной рацион, Дети до 3х лет'!J13","v":0}]
[]
["Полдник",{"$f":"'[2]Дневной рацион, Дети до 3х лет'!D14","v":"Ватрушки с повидлом."},{"$f":"'[2]Дневной рацион, Дети до 3х лет'!E14","v":50},{"$f":"'[2]Дневной рацион, Дети до 3х лет'!G14","v":138.334},{"$f":"'[2]Дневной рацион, Дети до 3х лет'!H14","v":2.917},{"$f":"'[2]Дневной рацион, Дети до 3х лет'!I14","v":1.167},{"$f":"'[2]Дневной рацион, Дети до 3х лет'!J14","v":29}]
[null,{"$f":"'[2]Дневной рацион, Дети до 3х лет'!D15","v":"Молоко кипяченое"},{"$f":"'[2]Дневной рацион, Дети до 3х лет'!E15","v":180},{"$f":"'[2]Дневной рацион, Дети до 3х лет'!G15","v":95.4},{"$f":"'[2]Дневной рацион, Дети до 3х лет'!H15","v":5.22},{"$f":"'[2]Дневной рацион, Дети до 3х лет'!I15","v":4.5},{"$f":"'[2]Дневной рацион, Дети до 3х лет'!J15","v":8.64}]
[]
["Ужин",{"$f":"'[2]Дневной рацион, Дети до 3х лет'!D16","v":"Суп с рыбными консервами ."},{"$f":"'[2]Дневной рацион, Дети до 3х лет'!E16","v":156},{"$f":"'[2]Дневной рацион, Дети до 3х лет'!G16","v":58.672},{"$f":"'[2]Дневной рацион, Дети до 3х лет'!H16","v":1.03},{"$f":"'[2]Дневной рацион, Дети до 3х лет'!I16","v":2.777},{"$f":"'[2]Дневной рацион, Дети до 3х лет'!J16","v":7.379}]
[null,{"$f":"'[2]Дневной рацион, Дети до 3х лет'!D17","v":"напиток из шиповника."},{"$f":"'[2]Дневной рацион, Дети до 3х лет'!E17","v":169},{"$f":"'[2]Дневной рацион, Дети до 3х лет'!G17","v":55.301},{"$f":"'[2]Дневной рацион, Дети до 3х лет'!H17","v":2.161},{"$f":"'[2]Дневной рацион, Дети до 3х лет'!I17","v":1.785},{"$f":"'[2]Дневной рацион, Дети до 3х лет'!J17","v":7.7}]
[null,{"$f":"'[2]Дневной рацион, Дети до 3х лет'!D18","v":"Хлеб  пшеничный"},{"$f":"'[2]Дневной рацион, Дети до 3х лет'!E18","v":20},{"$f":"'[2]Дневной рацион, Дети до 3х лет'!G18","v":0},{"$f":"'[2]Дневной рацион, Дети до 3х лет'!H18","v":0},{"$f":"'[2]Дневной рацион, Дети до 3х лет'!I18","v":0},{"$f":"'[2]Дневной рацион, Дети до 3х лет'!J18","v":0}]