{"text_format":"3","workbook":"xlsx","n_sheets":2,"sheets":[" Дети 3-7 лет","Дети до 3-лет"],"not_rendered":{"images":3,"external_links":4},"read":"whole","date_system":"1900"}

{"sheet":" Дети 3-7 лет","index":0,"n_rows":18,"n_cols":7,"rows_kept":18,"merged":[[0,3,0,4]]}
[null," МБДОУ д/с № 362"]
["Прием пищи","Блюдо","Выход","Калорийность","Белки","Жиры","Углеводы"]
["Завтрак",{"$f":"'[1]Дневной рацион, Дети 3-7 лет, '!D4","v":"Каша \"Дружба\" на молоке."},{"$f":"'[1]Дневной рацион, Дети 3-7 лет, '!E4","v":201},180.8,4.925,6.935,24.723]
[null,{"$f":"'[1]Дневной рацион, Дети 3-7 лет, '!D5","v":"Бутерброды с маслом ."},{"$f":"'[1]Дневной рацион, Дети 3-7 лет, '!E5","v":25},121.667,1.334,9.167,8.334]
[null,{"$f":"'[1]Дневной рацион, Дети 3-7 лет, '!D6","v":"Какао с молоком ."},{"$f":"'[1]Дневной рацион, Дети 3-7 лет, '!E6","v":200},106.7,4.6,4.3,12.4]
["Завтрак №2"]
["Обед","Огурец соленый",49,{"$f":"'[2]Дневной рацион, Дети 3-7 лет, '!G8","v":7.644},{"$f":"'[2]Дневной рацион, Дети 3-7 лет, '!H8","v":0.42},{"$f":"'[2]Дневной рацион, Дети 3-7 лет, '!I8","v":0},{"$f":"'[2]Дневной рацион, Дети 3-7 лет, '!J8","v":1.512}]
[null,{"$f":"'[2]Дневной рацион, Дети 3-7 лет, '!D9","v":"Суп картофельный с клецками из филе кур."},{"$f":"'[2]Дневной рацион, Дети 3-7 лет, '!E9","v":200},{"$f":"'[2]Дневной рацион, Дети 3-7 лет, '!G9","v":99.02},{"$f":"'[2]Дневной рацион, Дети 3-7 лет, '!H9","v":4.6},{"$f":"'[2]Дневной рацион, Дети 3-7 лет, '!I9","v":3.2},{"$f":"'[2]Дневной рацион, Дети 3-7 лет, '!J9","v":12.96}]
[null,{"$f":"'[2]Дневной рацион, Дети 3-7 лет, '!D10","v":"филе кур тушеное с овощами  в соусе ."},{"$f":"'[2]Дневной рацион, Дети 3-7 лет, '!E10","v":198},{"$f":"'[2]Дневной рацион, Дети 3-7 лет, '!G10","v":227.304},{"$f":"'[2]Дневной рацион, Дети 3-7 лет, '!H10","v":15.147},{"$f":"'[2]Дневной рацион, Дети 3-7 лет, '!I10","v":11.781},{"$f":"'[2]Дневной рацион, Дети 3-7 лет, '!J10","v":15.246}]
[null,{"$f":"'[2]Дневной рацион, Дети 3-7 лет, '!D11","v":"Компот из кураги и изюма."},{"$f":"'[2]Дневной рацион, Дети 3-7 лет, '!E11","v":197},{"$f":"'[2]Дневной рацион, Дети 3-7 лет, '!G11","v":18.361},{"$f":"'[2]Дневной рацион, Дети 3-7 лет, '!H11","v":0.119},{"$f":"'[2]Дневной рацион, Дети 3-7 лет, '!I11","v":0},{"$f":"'[2]Дневной рацион, Дети 3-7 лет, '!J11","v":4.472}]
[null,{"$f":"'[1]Дневной рацион, Дети 3-7 лет, '!D11","v":"Хлеб  пшеничный"},{"$f":"'[1]Дневной рацион, Дети 3-7 лет, '!E11","v":40}]
[null,{"$f":"'[1]Дневной рацион, Дети 3-7 лет, '!D12","v":"Хлеб  ржаной"},{"$f":"'[1]Дневной рацион, Дети 3-7 лет, '!E12","v":33}]
[]
["Полдник",{"$f":"'[3]Дневной рацион, Дети 3-7 лет, '!D13","v":"Молоко кипяченое"},{"$f":"'[3]Дневной рацион, Дети 3-7 лет, '!E13","v":180},{"$f":"'[3]Дневной рацион, Дети 3-7 лет, '!G13","v":95.4},{"$f":"'[3]Дневной рацион, Дети 3-7 лет, '!H13","v":5.22},{"$f":"'[3]Дневной рацион, Дети 3-7 лет, '!I13","v":4.5},{"$f":"'[3]Дневной рацион, Дети 3-7 лет, '!J13","v":8.64}]
[null,{"$f":"'[3]Дневной рацион, Дети 3-7 лет, '!D12","v":"Пирожки, печенные из сдобного теста  с капустой."},{"$f":"'[3]Дневной рацион, Дети 3-7 лет, '!E12","v":61},235.521,7.821,14.49,18.516]
["Ужин",{"$f":"'[1]Дневной рацион, Дети 3-7 лет, '!D15","v":"Каша вязкая молочная ячневая ."},{"$f":"'[1]Дневной рацион, Дети 3-7 лет, '!E15","v":201},295.671,8.342,12.663,36.984]
[null,{"$f":"'[2]Дневной рацион, Дети 3-7 лет, '!D17","v":"Напиток лимонный ."},{"$f":"'[2]Дневной рацион, Дети 3-7 лет, '!E17","v":200},{"$f":"'[2]Дневной рацион, Дети 3-7 лет, '!G17","v":65},{"$f":"'[2]Дневной рацион, Дети 3-7 лет, '!H17","v":0.27},{"$f":"'[2]Дневной рацион, Дети 3-7 лет, '!I17","v":0.06},{"$f":"'[2]Дневной рацион, Дети 3-7 лет, '!J17","v":15.4}]
[null,{"$f":"'[1]Дневной рацион, Дети 3-7 лет, '!D17","v":"Хлеб  пшеничный"},{"$f":"'[1]Дневной рацион, Дети 3-7 лет, '!E17","v":20}]

{"sheet":"Дети до 3-лет","index":1,"n_rows":19,"n_cols":7,"rows_kept":19}
[]
[]
["Прием пищи","Блюдо","Выход","Калорийность","Белки","Жиры","Углеводы"]
["Завтрак",{"$f":"'[4]Дневной рацион, Дети до 3х лет'!D4","v":"Каша \"Дружба\" на молоке."},{"$f":"'[4]Дневной рацион, Дети до 3х лет'!E4","v":171},{"$f":"'[4]Дневной рацион, Дети до 3х лет'!G4","v":153.815},{"$f":"'[4]Дневной рацион, Дети до 3х лет'!H4","v":4.19},{"$f":"'[4]Дневной рацион, Дети до 3х лет'!I4","v":5.9},{"$f":"'[4]Дневной рацион, Дети до 3х лет'!J4","v":21.033}]
[null,{"$f":"'[4]Дневной рацион, Дети до 3х лет'!D5","v":"Бутерброды с маслом ."},{"$f":"'[4]Дневной рацион, Дети до 3х лет'!E5","v":25},{"$f":"'[4]Дневной рацион, Дети до 3х лет'!G5","v":121.667},{"$f":"'[4]Дневной рацион, Дети до 3х лет'!H5","v":1.334},{"$f":"'[4]Дневной рацион, Дети до 3х лет'!I5","v":9.167},{"$f":"'[4]Дневной рацион, Дети до 3х лет'!J5","v":8.334}]
[null,{"$f":"'[4]Дневной рацион, Дети до 3х лет'!D6","v":"Какао с молоком ."},{"$f":"'[4]Дневной рацион, Дети до 3х лет'!E6","v":181},{"$f":"'[4]Дневной рацион, Дети до 3х лет'!G6","v":96.564},{"$f":"'[4]Дневной рацион, Дети до 3х лет'!H6","v":4.163},{"$f":"'[4]Дневной рацион, Дети до 3х лет'!I6","v":3.892},{"$f":"'[4]Дневной рацион, Дети до 3х лет'!J6","v":11.222}]
["Завтрак №2"]
["Обед","Огурец соленый",49,{"$f":"' Дети 3-7 лет'!D7","v":7.644},{"$f":"' Дети 3-7 лет'!E7","v":0.42},{"$f":"' Дети 3-7 лет'!F7","v":0},{"$f":"' Дети 3-7 лет'!G7","v":1.512}]
[null,{"$f":"' Дети 3-7 лет'!B8","v":"Суп картофельный с клецками из филе кур."},{"$f":"' Дети 3-7 лет'!C8","v":200},{"$f":"' Дети 3-7 лет'!D8","v":99.02},{"$f":"' Дети 3-7 лет'!E8","v":4.6},{"$f":"' Дети 3-7 лет'!F8","v":3.2},{"$f":"' Дети 3-7 лет'!G8","v":12.96}]
[null,{"$f":"' Дети 3-7 лет'!B9","v":"филе кур тушеное с овощами  в соусе ."},{"$f":"' Дети 3-7 лет'!C9","v":198},{"$f":"' Дети 3-7 лет'!D9","v":227.304},{"$f":"' Дети 3-7 лет'!E9","v":15.147},{"$f":"' Дети 3-7 лет'!F9","v":11.781},{"$f":"' Дети 3-7 лет'!G9","v":15.246}]
[null,{"$f":"'[4]Дневной рацион, Дети до 3х лет'!D10","v":"Компот из кураги и изюма."},{"$f":"'[4]Дневной рацион, Дети до 3х лет'!E10","v":180},{"$f":"'[4]Дневной рацион, Дети до 3х лет'!G10","v":16.776},{"$f":"'[4]Дневной рацион, Дети до 3х лет'!H10","v":0.108},{"$f":"'[4]Дневной рацион, Дети до 3х лет'!I10","v":0},{"$f":"'[4]Дневной рацион, Дети до 3х лет'!J10","v":4.086}]
[null,{"$f":"'[4]Дневной рацион, Дети до 3х лет'!D11","v":"Хлеб  пшеничный"},{"$f":"'[4]Дневной рацион, Дети до 3х лет'!E11","v":30},{"$f":"'[4]Дневной рацион, Дети до 3х лет'!G11","v":0},{"$f":"'[4]Дневной рацион, Дети до 3х лет'!H11","v":0},{"$f":"'[4]Дневной рацион, Дети до 3х лет'!I11","v":0},{"$f":"'[4]Дневной рацион, Дети до 3х лет'!J11","v":0}]
[null,{"$f":"'[4]Дневной рацион, Дети до 3х лет'!D12","v":"Хлеб  ржаной"},{"$f":"'[4]Дневной рацион, Дети до 3х лет'!E12","v":28},{"$f":"'[4]Дневной рацион, Дети до 3х лет'!G12","v":0},{"$f":"'[4]Дневной рацион, Дети до 3х лет'!H12","v":0},{"$f":"'[4]Дневной рацион, Дети до 3х лет'!I12","v":0},{"$f":"'[4]Дневной рацион, Дети до 3х лет'!J12","v":0}]
[]
["полдник",{"$f":"'[3]Дневной рацион, Дети 3-7 лет, '!D13","v":"Молоко кипяченое"},{"$f":"'[3]Дневной рацион, Дети 3-7 лет, '!E13","v":180},{"$f":"'[3]Дневной рацион, Дети 3-7 лет, '!G13","v":95.4},{"$f":"'[3]Дневной рацион, Дети 3-7 лет, '!H13","v":5.22},{"$f":"'[3]Дневной рацион, Дети 3-7 лет, '!I13","v":4.5},{"$f":"'[3]Дневной рацион, Дети 3-7 лет, '!J13","v":8.64}]
[null,{"$f":"'[3]Дневной рацион, Дети 3-7 лет, '!D12","v":"Пирожки, печенные из сдобного теста  с капустой."},{"$f":"'[3]Дневной рацион, Дети 3-7 лет, '!E12","v":61},{"$f":"'[4]Дневной рацион, Дети до 3х лет'!G14","v":208.214},{"$f":"'[4]Дневной рацион, Дети до 3х лет'!H14","v":6.914},{"$f":"'[4]Дневной рацион, Дети до 3х лет'!I14","v":12.81},{"$f":"'[4]Дневной рацион, Дети до 3х лет'!J14","v":16.369}]
["Ужин",{"$f":"'[4]Дневной рацион, Дети до 3х лет'!D15","v":"Каша вязкая молочная ячневая ."},{"$f":"'[4]Дневной рацион, Дети до 3х лет'!E15","v":181},{"$f":"'[4]Дневной рацион, Дети до 3х лет'!G15","v":266.251},{"$f":"'[4]Дневной рацион, Дети до 3х лет'!H15","v":7.512},{"$f":"'[4]Дневной рацион, Дети до 3х лет'!I15","v":11.403},{"$f":"'[4]Дневной рацион, Дети до 3х лет'!J15","v":33.304}]
[null,{"$f":"' Дети 3-7 лет'!B17","v":"Напиток лимонный ."},{"$f":"' Дети 3-7 лет'!C17","v":200},{"$f":"' Дети 3-7 лет'!D17","v":65},{"$f":"' Дети 3-7 лет'!E17","v":0.27},{"$f":"' Дети 3-7 лет'!F17","v":0.06},{"$f":"' Дети 3-7 лет'!G17","v":15.4}]
[null,{"$f":"'[4]Дневной рацион, Дети до 3х лет'!D17","v":"Хлеб  пшеничный"},{"$f":"'[4]Дневной рацион, Дети до 3х лет'!E17","v":20},{"$f":"'[4]Дневной рацион, Дети до 3х лет'!G17","v":0},{"$f":"'[4]Дневной рацион, Дети до 3х лет'!H17","v":0},{"$f":"'[4]Дневной рацион, Дети до 3х лет'!I17","v":0},{"$f":"'[4]Дневной рацион, Дети до 3х лет'!J17","v":0}]