{"text_format":"3","workbook":"xlsx","n_sheets":2,"sheets":["Дети от 3-до 7 лет","Дети до 3-лет"],"not_rendered":{"images":3,"external_links":3},"read":"whole","date_system":"1900"}

{"sheet":"Дети от 3-до 7 лет","index":0,"n_rows":20,"n_cols":7,"rows_kept":20,"merged":[[0,3,0,4]]}
[null," МБДОУ д/с № 362"]
["Прием пищи","Блюдо","Выход","Калорийность","Белки","Жиры","Углеводы"]
["Завтрак",{"$f":"'[2]Дневной рацион, Дети 3-7 лет, '!D4","v":"каша вязкая молочная геркулес."},{"$f":"'[2]Дневной рацион, Дети 3-7 лет, '!E4","v":201},{"$f":"'[2]Дневной рацион, Дети 3-7 лет, '!G4","v":32.884},{"$f":"'[2]Дневной рацион, Дети 3-7 лет, '!H4","v":1.026},{"$f":"'[2]Дневной рацион, Дети 3-7 лет, '!I4","v":1.347},{"$f":"'[2]Дневной рацион, Дети 3-7 лет, '!J4","v":4.121}]
[null,{"$f":"'[2]Дневной рацион, Дети 3-7 лет, '!D5","v":"Бутерброды  (батон) с маслом ."},{"$f":"'[2]Дневной рацион, Дети 3-7 лет, '!E5","v":35},{"$f":"'[2]Дневной рацион, Дети 3-7 лет, '!G5","v":146},{"$f":"'[2]Дневной рацион, Дети 3-7 лет, '!H5","v":1.6},{"$f":"'[2]Дневной рацион, Дети 3-7 лет, '!I5","v":11},{"$f":"'[2]Дневной рацион, Дети 3-7 лет, '!J5","v":10}]
[null,{"$f":"'[2]Дневной рацион, Дети 3-7 лет, '!D6","v":"Чай с сахаром ."},{"$f":"'[2]Дневной рацион, Дети 3-7 лет, '!E6","v":200},{"$f":"'[2]Дневной рацион, Дети 3-7 лет, '!G6","v":57},{"$f":"'[2]Дневной рацион, Дети 3-7 лет, '!H6","v":0.2},{"$f":"'[2]Дневной рацион, Дети 3-7 лет, '!I6","v":0},{"$f":"'[2]Дневной рацион, Дети 3-7 лет, '!J6","v":15}]
[]
["завтрак №2"]
[null,{"$f":"'[2]Дневной рацион, Дети 3-7 лет, '!D7","v":"кукуруза с зел.горошком (консервированный)."},{"$f":"'[2]Дневной рацион, Дети 3-7 лет, '!E7","v":43},{"$f":"'[2]Дневной рацион, Дети 3-7 лет, '!G7","v":15.003},{"$f":"'[2]Дневной рацион, Дети 3-7 лет, '!H7","v":0.574},{"$f":"'[2]Дневной рацион, Дети 3-7 лет, '!I7","v":0.096},{"$f":"'[2]Дневной рацион, Дети 3-7 лет, '!J7","v":2.963}]
["Обед",{"$f":"'[2]Дневной рацион, Дети 3-7 лет, '!D8","v":"Суп крестьянский с крупой (крупа перловая)."},{"$f":"'[2]Дневной рацион, Дети 3-7 лет, '!E8","v":202},{"$f":"'[2]Дневной рацион, Дети 3-7 лет, '!G8","v":99.869},{"$f":"'[2]Дневной рацион, Дети 3-7 лет, '!H8","v":1.98},{"$f":"'[2]Дневной рацион, Дети 3-7 лет, '!I8","v":4.99},{"$f":"'[2]Дневной рацион, Дети 3-7 лет, '!J8","v":11.777}]
[null,{"$f":"'[2]Дневной рацион, Дети 3-7 лет, '!D9","v":"Пудинг рыбный запеченный ."},{"$f":"'[2]Дневной рацион, Дети 3-7 лет, '!E9","v":149},{"$f":"'[2]Дневной рацион, Дети 3-7 лет, '!G9","v":113.879},{"$f":"'[2]Дневной рацион, Дети 3-7 лет, '!H9","v":10.963},{"$f":"'[2]Дневной рацион, Дети 3-7 лет, '!I9","v":4.801},{"$f":"'[2]Дневной рацион, Дети 3-7 лет, '!J9","v":6.61}]
[null,{"$f":"'[2]Дневной рацион, Дети 3-7 лет, '!D10","v":"Напиток клюквенный."},{"$f":"'[2]Дневной рацион, Дети 3-7 лет, '!E10","v":197},{"$f":"'[2]Дневной рацион, Дети 3-7 лет, '!G10","v":40.385},{"$f":"'[2]Дневной рацион, Дети 3-7 лет, '!H10","v":0.099},{"$f":"'[2]Дневной рацион, Дети 3-7 лет, '!I10","v":0.04},{"$f":"'[2]Дневной рацион, Дети 3-7 лет, '!J10","v":9.752}]
[null,{"$f":"'[2]Дневной рацион, Дети 3-7 лет, '!D11","v":"Хлеб  пшеничный"},{"$f":"'[2]Дневной рацион, Дети 3-7 лет, '!E11","v":40},{"$f":"'[2]Дневной рацион, Дети 3-7 лет, '!G11","v":0},{"$f":"'[2]Дневной рацион, Дети 3-7 лет, '!H11","v":0},{"$f":"'[2]Дневной рацион, Дети 3-7 лет, '!I11","v":0},{"$f":"'[2]Дневной рацион, Дети 3-7 лет, '!J11","v":0}]
[null,{"$f":"'[2]Дневной рацион, Дети 3-7 лет, '!D12","v":"Хлеб  ржаной"},{"$f":"'[2]Дневной рацион, Дети 3-7 лет, '!E12","v":37},{"$f":"'[2]Дневной рацион, Дети 3-7 лет, '!G12","v":0},{"$f":"'[2]Дневной рацион, Дети 3-7 лет, '!H12","v":0},{"$f":"'[2]Дневной рацион, Дети 3-7 лет, '!I12","v":0},{"$f":"'[2]Дневной рацион, Дети 3-7 лет, '!J12","v":0}]
[]
["полдник",{"$f":"'[2]Дневной рацион, Дети 3-7 лет, '!D13","v":"Вафли"},{"$f":"'[2]Дневной рацион, Дети 3-7 лет, '!E13","v":37},{"$f":"'[2]Дневной рацион, Дети 3-7 лет, '!G13","v":129.5},{"$f":"'[2]Дневной рацион, Дети 3-7 лет, '!H13","v":1.036},{"$f":"'[2]Дневной рацион, Дети 3-7 лет, '!I13","v":1.221},{"$f":"'[2]Дневной рацион, Дети 3-7 лет, '!J13","v":28.601}]
[null,{"$f":"'[2]Дневной рацион, Дети 3-7 лет, '!D14","v":"Ряженка"},{"$f":"'[2]Дневной рацион, Дети 3-7 лет, '!E14","v":198},{"$f":"'[2]Дневной рацион, Дети 3-7 лет, '!G14","v":91.08},{"$f":"'[2]Дневной рацион, Дети 3-7 лет, '!H14","v":5.391},{"$f":"'[2]Дневной рацион, Дети 3-7 лет, '!I14","v":4.401},{"$f":"'[2]Дневной рацион, Дети 3-7 лет, '!J14","v":7.591}]
[]
["ужин",{"$f":"'[2]Дневной рацион, Дети 3-7 лет, '!D15","v":"Запеканка из творога  со сгущенным молоком."},{"$f":"'[2]Дневной рацион, Дети 3-7 лет, '!E15","v":153},{"$f":"'[2]Дневной рацион, Дети 3-7 лет, '!G15","v":310.284},{"$f":"'[2]Дневной рацион, Дети 3-7 лет, '!H15","v":30.09},{"$f":"'[2]Дневной рацион, Дети 3-7 лет, '!I15","v":10.914},{"$f":"'[2]Дневной рацион, Дети 3-7 лет, '!J15","v":22.746}]
[null,{"$f":"'[2]Дневной рацион, Дети 3-7 лет, '!D16","v":"Напиток лимонный ."},{"$f":"'[2]Дневной рацион, Дети 3-7 лет, '!E16","v":197},{"$f":"'[2]Дневной рацион, Дети 3-7 лет, '!G16","v":64.025},{"$f":"'[2]Дневной рацион, Дети 3-7 лет, '!H16","v":0.266},{"$f":"'[2]Дневной рацион, Дети 3-7 лет, '!I16","v":0.06},{"$f":"'[2]Дневной рацион, Дети 3-7 лет, '!J16","v":15.169}]
[null,{"$f":"'[2]Дневной рацион, Дети 3-7 лет, '!D17","v":"Хлеб  пшеничный"},{"$f":"'[2]Дневной рацион, Дети 3-7 лет, '!E17","v":20},{"$f":"'[2]Дневной рацион, Дети 3-7 лет, '!G17","v":0},{"$f":"'[2]Дневной рацион, Дети 3-7 лет, '!H17","v":0},{"$f":"'[2]Дневной рацион, Дети 3-7 лет, '!I17","v":0},{"$f":"'[2]Дневной рацион, Дети 3-7 лет, '!J17","v":0}]

{"sheet":"Дети до 3-лет","index":1,"n_rows":21,"n_cols":7,"rows_kept":21}
[]
[]
["Прием пищи","Блюдо","Выход","Калорийность","Белки","Жиры","Углеводы"]
["Завтрак",{"$f":"'[3]Дневной рацион, Дети до 3х лет'!D4","v":"каша вязкая молочная геркулес."},{"$f":"'[3]Дневной рацион, Дети до 3х лет'!E4","v":171},{"$f":"'[1]Дневной рацион, Дети до 3х лет'!F4","v":0},{"$f":"'[3]Дневной рацион, Дети до 3х лет'!G4","v":27.976},{"$f":"'[3]Дневной рацион, Дети до 3х лет'!H4","v":0.873},{"$f":"'[3]Дневной рацион, Дети до 3х лет'!I4","v":1.146}]
[null,{"$f":"'[3]Дневной рацион, Дети до 3х лет'!D5","v":"Бутерброды  (батон) с маслом ."},{"$f":"'[3]Дневной рацион, Дети до 3х лет'!E5","v":25},{"$f":"'[1]Дневной рацион, Дети до 3х лет'!F5","v":0},{"$f":"'[3]Дневной рацион, Дети до 3х лет'!G5","v":104.286},{"$f":"'[3]Дневной рацион, Дети до 3х лет'!H5","v":1.143},{"$f":"'[3]Дневной рацион, Дети до 3х лет'!I5","v":7.858}]
[null,{"$f":"'[3]Дневной рацион, Дети до 3х лет'!D6","v":"Чай с сахаром ."},{"$f":"'[3]Дневной рацион, Дети до 3х лет'!E6","v":180},{"$f":"'[1]Дневной рацион, Дети до 3х лет'!F6","v":0},{"$f":"'[3]Дневной рацион, Дети до 3х лет'!G6","v":51.3},{"$f":"'[3]Дневной рацион, Дети до 3х лет'!H6","v":0.18},{"$f":"'[3]Дневной рацион, Дети до 3х лет'!I6","v":0}]
["завтрак №2"]
[]
[null,{"$f":"'[3]Дневной рацион, Дети до 3х лет'!D7","v":"кукуруза с зел.горошком (консервированный)."},{"$f":"'[3]Дневной рацион, Дети до 3х лет'!E7","v":29},{"$f":"'[1]Дневной рацион, Дети до 3х лет'!F7","v":0},{"$f":"'[3]Дневной рацион, Дети до 3х лет'!G7","v":10.119},{"$f":"'[3]Дневной рацион, Дети до 3х лет'!H7","v":0.387},{"$f":"'[3]Дневной рацион, Дети до 3х лет'!I7","v":0.065}]
["Обед",{"$f":"'[3]Дневной рацион, Дети до 3х лет'!D8","v":"Суп крестьянский с крупой (крупа перловая)."},{"$f":"'[3]Дневной рацион, Дети до 3х лет'!E8","v":182},null,{"$f":"'[3]Дневной рацион, Дети до 3х лет'!G8","v":89.981},{"$f":"'[3]Дневной рацион, Дети до 3х лет'!H8","v":1.784},{"$f":"'[3]Дневной рацион, Дети до 3х лет'!I8","v":4.496}]
[null,{"$f":"'[3]Дневной рацион, Дети до 3х лет'!D9","v":"Пудинг рыбный запеченный ."},{"$f":"'[3]Дневной рацион, Дети до 3х лет'!E9","v":130},null,{"$f":"'[3]Дневной рацион, Дети до 3х лет'!G9","v":99.358},{"$f":"'[3]Дневной рацион, Дети до 3х лет'!H9","v":9.565},{"$f":"'[3]Дневной рацион, Дети до 3х лет'!I9","v":4.188}]
[null,{"$f":"'[3]Дневной рацион, Дети до 3х лет'!D10","v":"Напиток клюквенный."},{"$f":"'[3]Дневной рацион, Дети до 3х лет'!E10","v":177},{"$f":"'[1]Дневной рацион, Дети до 3х лет'!F8","v":0},{"$f":"'[3]Дневной рацион, Дети до 3х лет'!G10","v":36.285},{"$f":"'[3]Дневной рацион, Дети до 3х лет'!H10","v":0.089},{"$f":"'[3]Дневной рацион, Дети до 3х лет'!I10","v":0.036}]
[null,{"$f":"'[3]Дневной рацион, Дети до 3х лет'!D11","v":"Хлеб  пшеничный"},{"$f":"'[3]Дневной рацион, Дети до 3х лет'!E11","v":30},{"$f":"'[1]Дневной рацион, Дети до 3х лет'!F9","v":0},{"$f":"'[3]Дневной рацион, Дети до 3х лет'!G11","v":0},{"$f":"'[3]Дневной рацион, Дети до 3х лет'!H11","v":0},{"$f":"'[3]Дневной рацион, Дети до 3х лет'!I11","v":0}]
[null,{"$f":"'[3]Дневной рацион, Дети до 3х лет'!D12","v":"Хлеб  ржаной"},{"$f":"'[3]Дневной рацион, Дети до 3х лет'!E12","v":32},{"$f":"'[1]Дневной рацион, Дети до 3х лет'!F10","v":0},{"$f":"'[3]Дневной рацион, Дети до 3х лет'!G12","v":0},{"$f":"'[3]Дневной рацион, Дети до 3х лет'!H12","v":0},{"$f":"'[3]Дневной рацион, Дети до 3х лет'!I12","v":0}]
[]
["полдник",{"$f":"'[3]Дневной рацион, Дети до 3х лет'!D13","v":"Вафли"},{"$f":"'[3]Дневной рацион, Дети до 3х лет'!E13","v":28},{"$f":"'[1]Дневной рацион, Дети до 3х лет'!F11","v":0},{"$f":"'[3]Дневной рацион, Дети до 3х лет'!G13","v":98},{"$f":"'[3]Дневной рацион, Дети до 3х лет'!H13","v":0.784},{"$f":"'[3]Дневной рацион, Дети до 3х лет'!I13","v":0.924}]
[null,{"$f":"'[3]Дневной рацион, Дети до 3х лет'!D14","v":"Ряженка"},{"$f":"'[3]Дневной рацион, Дети до 3х лет'!E14","v":168},{"$f":"'[1]Дневной рацион, Дети до 3х лет'!F12","v":0},{"$f":"'[3]Дневной рацион, Дети до 3х лет'!G14","v":77.28},{"$f":"'[3]Дневной рацион, Дети до 3х лет'!H14","v":4.574},{"$f":"'[3]Дневной рацион, Дети до 3х лет'!I14","v":3.734}]
[]
[null,{"$f":"'[3]Дневной рацион, Дети до 3х лет'!D15","v":"Запеканка из творога  со сгущенным молоком."},{"$f":"'[3]Дневной рацион, Дети до 3х лет'!E15","v":113},null,{"$f":"'[3]Дневной рацион, Дети до 3х лет'!G15","v":229.164},{"$f":"'[3]Дневной рацион, Дети до 3х лет'!H15","v":22.225},{"$f":"'[3]Дневной рацион, Дети до 3х лет'!I15","v":8.062}]
["Ужин",{"$f":"'[3]Дневной рацион, Дети до 3х лет'!D16","v":"Напиток лимонный ."},{"$f":"'[3]Дневной рацион, Дети до 3х лет'!E16","v":167},{"$f":"'[1]Дневной рацион, Дети до 3х лет'!F13","v":0},{"$f":"'[3]Дневной рацион, Дети до 3х лет'!G16","v":54.275},{"$f":"'[3]Дневной рацион, Дети до 3х лет'!H16","v":0.226},{"$f":"'[3]Дневной рацион, Дети до 3х лет'!I16","v":0.051}]
[null,{"$f":"'[3]Дневной рацион, Дети до 3х лет'!D17","v":"Хлеб  пшеничный"},{"$f":"'[3]Дневной рацион, Дети до 3х лет'!E17","v":20},{"$f":"'[1]Дневной рацион, Дети до 3х лет'!F14","v":0},{"$f":"'[3]Дневной рацион, Дети до 3х лет'!G17","v":0},{"$f":"'[3]Дневной рацион, Дети до 3х лет'!H17","v":0},{"$f":"'[3]Дневной рацион, Дети до 3х лет'!I17","v":0}]