{"text_format":"3","workbook":"xlsx","n_sheets":2,"sheets":[" Дети 3-7 лет","Дети до 3-лет"],"not_rendered":{"images":3,"external_links":1},"read":"whole","date_system":"1900"}

{"sheet":" Дети 3-7 лет","index":0,"n_rows":23,"n_cols":7,"rows_kept":23,"merged":[[0,3,0,4]]}
[null," МБДОУ д/с № 362"]
["Прием пищи","Блюдо","Выход","Калорийность","Белки","Жиры","Углеводы"]
["Завтрак",{"$f":"'Дети до 3-лет'!B4","v":"Каша жидкая молочная кукурузная на сухом молоке."},{"$f":"'Дети до 3-лет'!C4","v":173},{"$f":"'Дети до 3-лет'!D4","v":0},{"$f":"'Дети до 3-лет'!E4","v":134.767},{"$f":"'Дети до 3-лет'!F4","v":3.72},{"$f":"'Дети до 3-лет'!G4","v":3.806}]
[null,{"$f":"'Дети до 3-лет'!B5","v":"Бутерброды с маслом ."},{"$f":"'Дети до 3-лет'!C5","v":25},{"$f":"'Дети до 3-лет'!D5","v":0},{"$f":"'Дети до 3-лет'!E5","v":121.667},{"$f":"'Дети до 3-лет'!F5","v":1.334},{"$f":"'Дети до 3-лет'!G5","v":9.167}]
[null,{"$f":"'Дети до 3-лет'!B6","v":"Чай с сахаром ."},{"$f":"'Дети до 3-лет'!C6","v":180},{"$f":"'Дети до 3-лет'!D6","v":0},{"$f":"'Дети до 3-лет'!E6","v":51.3},{"$f":"'Дети до 3-лет'!F6","v":0.18},{"$f":"'Дети до 3-лет'!G6","v":0}]
["Завтрак № 2",{"$f":"'Дети до 3-лет'!B9","v":"Борщ с капустой и картофелем со сметаной ."},{"$f":"'Дети до 3-лет'!C9","v":182},{"$f":"'Дети до 3-лет'!D9","v":0},{"$f":"'Дети до 3-лет'!E9","v":84.03},{"$f":"'Дети до 3-лет'!F9","v":1.566},{"$f":"'Дети до 3-лет'!G9","v":4.441}]
[null,{"$f":"'Дети до 3-лет'!B10","v":"Соус белый основной ."},{"$f":"'Дети до 3-лет'!C10","v":21},{"$f":"'Дети до 3-лет'!D10","v":0},{"$f":"'Дети до 3-лет'!E10","v":13.755},{"$f":"'Дети до 3-лет'!F10","v":0.567},{"$f":"'Дети до 3-лет'!G10","v":0.882}]
["Обед",{"$f":"'Дети до 3-лет'!B11","v":"Макароны отварные с маслом."},{"$f":"'Дети до 3-лет'!C11","v":91},{"$f":"'Дети до 3-лет'!D11","v":0},{"$f":"'Дети до 3-лет'!E11","v":149.24},{"$f":"'Дети до 3-лет'!F11","v":4.095},{"$f":"'Дети до 3-лет'!G11","v":3.716}]
[null,{"$f":"'Дети до 3-лет'!B12","v":"Компот из смеси сухофруктов ."},{"$f":"'Дети до 3-лет'!C12","v":180},{"$f":"'Дети до 3-лет'!D12","v":0},{"$f":"'Дети до 3-лет'!E12","v":16.776},{"$f":"'Дети до 3-лет'!F12","v":0.108},{"$f":"'Дети до 3-лет'!G12","v":0}]
[null,{"$f":"'Дети до 3-лет'!B13","v":"Шницель  рубленный из говядины."},{"$f":"'Дети до 3-лет'!C13","v":52},{"$f":"'Дети до 3-лет'!D13","v":0},{"$f":"'Дети до 3-лет'!E13","v":162.934},{"$f":"'Дети до 3-лет'!F13","v":12.22},{"$f":"'Дети до 3-лет'!G13","v":10.322}]
[null,{"$f":"'Дети до 3-лет'!B14","v":"Хлеб  пшеничный"},{"$f":"'Дети до 3-лет'!C14","v":30},{"$f":"'Дети до 3-лет'!D14","v":0},{"$f":"'Дети до 3-лет'!E14","v":0},{"$f":"'Дети до 3-лет'!F14","v":0},{"$f":"'Дети до 3-лет'!G14","v":0}]
[null,{"$f":"'Дети до 3-лет'!B15","v":"Хлеб  ржаной"},{"$f":"'Дети до 3-лет'!C15","v":33},{"$f":"'Дети до 3-лет'!D15","v":0},{"$f":"'Дети до 3-лет'!E15","v":0},{"$f":"'Дети до 3-лет'!F15","v":0},{"$f":"'Дети до 3-лет'!G15","v":0}]
[null,{"$f":"'Дети до 3-лет'!B17","v":"Коржик молочный"},{"$f":"'Дети до 3-лет'!C17","v":52},{"$f":"'Дети до 3-лет'!D17","v":0},{"$f":"'Дети до 3-лет'!E17","v":105.664},{"$f":"'Дети до 3-лет'!F17","v":1.804},{"$f":"'Дети до 3-лет'!G17","v":3.052}]
[null,{"$f":"'Дети до 3-лет'!B18","v":"Молоко кипяченое"},{"$f":"'Дети до 3-лет'!C18","v":216},{"$f":"'Дети до 3-лет'!D18","v":0},{"$f":"'Дети до 3-лет'!E18","v":114.48},{"$f":"'Дети до 3-лет'!F18","v":6.264},{"$f":"'Дети до 3-лет'!G18","v":5.4}]
[null,{"$f":"'Дети до 3-лет'!B20","v":"Суп с рыбными консервами ."},{"$f":"'Дети до 3-лет'!C20","v":159},{"$f":"'Дети до 3-лет'!D20","v":0},{"$f":"'Дети до 3-лет'!E20","v":59.8},{"$f":"'Дети до 3-лет'!F20","v":1.05},{"$f":"'Дети до 3-лет'!G20","v":2.831}]
[null,{"$f":"'Дети до 3-лет'!B21","v":"напиток из шиповника."},{"$f":"'Дети до 3-лет'!C21","v":167},{"$f":"'Дети до 3-лет'!D21","v":0},{"$f":"'Дети до 3-лет'!E21","v":54.647},{"$f":"'Дети до 3-лет'!F21","v":2.135},{"$f":"'Дети до 3-лет'!G21","v":1.764}]
[null,{"$f":"'Дети до 3-лет'!B22","v":"Хлеб  пшеничный"},{"$f":"'Дети до 3-лет'!C22","v":20},{"$f":"'Дети до 3-лет'!D22","v":0},{"$f":"'Дети до 3-лет'!E22","v":0},{"$f":"'Дети до 3-лет'!F22","v":0},{"$f":"'Дети до 3-лет'!G22","v":0}]
["Полдник",{"$f":"'Дети до 3-лет'!B23","v":0},{"$f":"'Дети до 3-лет'!C23","v":0},{"$f":"'Дети до 3-лет'!D23","v":0},{"$f":"'Дети до 3-лет'!E23","v":0},{"$f":"'Дети до 3-лет'!F23","v":0},{"$f":"'Дети до 3-лет'!G23","v":0}]
[]
[]
[]
["Ужин"]
[null,{"$f":"'Дети до 3-лет'!B24","v":0},{"$f":"'Дети до 3-лет'!C24","v":0},{"$f":"'Дети до 3-лет'!D24","v":0},{"$f":"'Дети до 3-лет'!E24","v":0},{"$f":"'Дети до 3-лет'!F24","v":0},{"$f":"'Дети до 3-лет'!G24","v":0}]

{"sheet":"Дети до 3-лет","index":1,"n_rows":23,"n_cols":7,"rows_kept":23}
[]
[]
["Прием пищи","Блюдо","Выход","Калорийность","Белки","Жиры","Углеводы"]
["Завтрак",{"$f":"'[1]Дневной рацион, Дети до 3х лет'!D4","v":"Каша жидкая молочная кукурузная на сухом молоке."},{"$f":"'[1]Дневной рацион, Дети до 3х лет'!E4","v":173},{"$f":"'[1]Дневной рацион, Дети до 3х лет'!F4","v":0},{"$f":"'[1]Дневной рацион, Дети до 3х лет'!G4","v":134.767},{"$f":"'[1]Дневной рацион, Дети до 3х лет'!H4","v":3.72},{"$f":"'[1]Дневной рацион, Дети до 3х лет'!I4","v":3.806}]
[null,{"$f":"'[1]Дневной рацион, Дети до 3х лет'!D5","v":"Бутерброды с маслом ."},{"$f":"'[1]Дневной рацион, Дети до 3х лет'!E5","v":25},{"$f":"'[1]Дневной рацион, Дети до 3х лет'!F5","v":0},{"$f":"'[1]Дневной рацион, Дети до 3х лет'!G5","v":121.667},{"$f":"'[1]Дневной рацион, Дети до 3х лет'!H5","v":1.334},{"$f":"'[1]Дневной рацион, Дети до 3х лет'!I5","v":9.167}]
[null,{"$f":"'[1]Дневной рацион, Дети до 3х лет'!D6","v":"Чай с сахаром ."},{"$f":"'[1]Дневной рацион, Дети до 3х лет'!E6","v":180},{"$f":"'[1]Дневной рацион, Дети до 3х лет'!F6","v":0},{"$f":"'[1]Дневной рацион, Дети до 3х лет'!G6","v":51.3},{"$f":"'[1]Дневной рацион, Дети до 3х лет'!H6","v":0.18},{"$f":"'[1]Дневной рацион, Дети до 3х лет'!I6","v":0}]
["Завтрак №2"]
[]
[null,{"$f":"'[1]Дневной рацион, Дети до 3х лет'!D7","v":"Борщ с капустой и картофелем со сметаной ."},{"$f":"'[1]Дневной рацион, Дети до 3х лет'!E7","v":182},{"$f":"'[1]Дневной рацион, Дети до 3х лет'!F7","v":0},{"$f":"'[1]Дневной рацион, Дети до 3х лет'!G7","v":84.03},{"$f":"'[1]Дневной рацион, Дети до 3х лет'!H7","v":1.566},{"$f":"'[1]Дневной рацион, Дети до 3х лет'!I7","v":4.441}]
[null,{"$f":"'[1]Дневной рацион, Дети до 3х лет'!D8","v":"Соус белый основной ."},{"$f":"'[1]Дневной рацион, Дети до 3х лет'!E8","v":21},{"$f":"'[1]Дневной рацион, Дети до 3х лет'!F8","v":0},{"$f":"'[1]Дневной рацион, Дети до 3х лет'!G8","v":13.755},{"$f":"'[1]Дневной рацион, Дети до 3х лет'!H8","v":0.567},{"$f":"'[1]Дневной рацион, Дети до 3х лет'!I8","v":0.882}]
["Обед",{"$f":"'[1]Дневной рацион, Дети до 3х лет'!D9","v":"Макароны отварные с маслом."},{"$f":"'[1]Дневной рацион, Дети до 3х лет'!E9","v":91},{"$f":"'[1]Дневной рацион, Дети до 3х лет'!F9","v":0},{"$f":"'[1]Дневной рацион, Дети до 3х лет'!G9","v":149.24},{"$f":"'[1]Дневной рацион, Дети до 3х лет'!H9","v":4.095},{"$f":"'[1]Дневной рацион, Дети до 3х лет'!I9","v":3.716}]
[null,{"$f":"'[1]Дневной рацион, Дети до 3х лет'!D10","v":"Компот из смеси сухофруктов ."},{"$f":"'[1]Дневной рацион, Дети до 3х лет'!E10","v":180},{"$f":"'[1]Дневной рацион, Дети до 3х лет'!F10","v":0},{"$f":"'[1]Дневной рацион, Дети до 3х лет'!G10","v":16.776},{"$f":"'[1]Дневной рацион, Дети до 3х лет'!H10","v":0.108},{"$f":"'[1]Дневной рацион, Дети до 3х лет'!I10","v":0}]
[null,{"$f":"'[1]Дневной рацион, Дети до 3х лет'!D11","v":"Шницель  рубленный из говядины."},{"$f":"'[1]Дневной рацион, Дети до 3х лет'!E11","v":52},{"$f":"'[1]Дневной рацион, Дети до 3х лет'!F11","v":0},{"$f":"'[1]Дневной рацион, Дети до 3х лет'!G11","v":162.934},{"$f":"'[1]Дневной рацион, Дети до 3х лет'!H11","v":12.22},{"$f":"'[1]Дневной рацион, Дети до 3х лет'!I11","v":10.322}]
[null,{"$f":"'[1]Дневной рацион, Дети до 3х лет'!D12","v":"Хлеб  пшеничный"},{"$f":"'[1]Дневной рацион, Дети до 3х лет'!E12","v":30},{"$f":"'[1]Дневной рацион, Дети до 3х лет'!F12","v":0},{"$f":"'[1]Дневной рацион, Дети до 3х лет'!G12","v":0},{"$f":"'[1]Дневной рацион, Дети до 3х лет'!H12","v":0},{"$f":"'[1]Дневной рацион, Дети до 3х лет'!I12","v":0}]
[null,{"$f":"'[1]Дневной рацион, Дети до 3х лет'!D13","v":"Хлеб  ржаной"},{"$f":"'[1]Дневной рацион, Дети до 3х лет'!E13","v":33},{"$f":"'[1]Дневной рацион, Дети до 3х лет'!F13","v":0},{"$f":"'[1]Дневной рацион, Дети до 3х лет'!G13","v":0},{"$f":"'[1]Дневной рацион, Дети до 3х лет'!H13","v":0},{"$f":"'[1]Дневной рацион, Дети до 3х лет'!I13","v":0}]
[]
["Полдник",{"$f":"'[1]Дневной рацион, Дети до 3х лет'!D14","v":"Коржик молочный"},{"$f":"'[1]Дневной рацион, Дети до 3х лет'!E14","v":52},{"$f":"'[1]Дневной рацион, Дети до 3х лет'!F14","v":0},{"$f":"'[1]Дневной рацион, Дети до 3х лет'!G14","v":105.664},{"$f":"'[1]Дневной рацион, Дети до 3х лет'!H14","v":1.804},{"$f":"'[1]Дневной рацион, Дети до 3х лет'!I14","v":3.052}]
[null,{"$f":"'[1]Дневной рацион, Дети до 3х лет'!D15","v":"Молоко кипяченое"},{"$f":"'[1]Дневной рацион, Дети до 3х лет'!E15","v":216},{"$f":"'[1]Дневной рацион, Дети до 3х лет'!F15","v":0},{"$f":"'[1]Дневной рацион, Дети до 3х лет'!G15","v":114.48},{"$f":"'[1]Дневной рацион, Дети до 3х лет'!H15","v":6.264},{"$f":"'[1]Дневной рацион, Дети до 3х лет'!I15","v":5.4}]
[]
["Ужин",{"$f":"'[1]Дневной рацион, Дети до 3х лет'!D16","v":"Суп с рыбными консервами ."},{"$f":"'[1]Дневной рацион, Дети до 3х лет'!E16","v":159},{"$f":"'[1]Дневной рацион, Дети до 3х лет'!F16","v":0},{"$f":"'[1]Дневной рацион, Дети до 3х лет'!G16","v":59.8},{"$f":"'[1]Дневной рацион, Дети до 3х лет'!H16","v":1.05},{"$f":"'[1]Дневной рацион, Дети до 3х лет'!I16","v":2.831}]
[null,{"$f":"'[1]Дневной рацион, Дети до 3х лет'!D17","v":"напиток из шиповника."},{"$f":"'[1]Дневной рацион, Дети до 3х лет'!E17","v":167},{"$f":"'[1]Дневной рацион, Дети до 3х лет'!F17","v":0},{"$f":"'[1]Дневной рацион, Дети до 3х лет'!G17","v":54.647},{"$f":"'[1]Дневной рацион, Дети до 3х лет'!H17","v":2.135},{"$f":"'[1]Дневной рацион, Дети до 3х лет'!I17","v":1.764}]
[null,{"$f":"'[1]Дневной рацион, Дети до 3х лет'!D18","v":"Хлеб  пшеничный"},{"$f":"'[1]Дневной рацион, Дети до 3х лет'!E18","v":20},{"$f":"'[1]Дневной рацион, Дети до 3х лет'!F18","v":0},{"$f":"'[1]Дневной рацион, Дети до 3х лет'!G18","v":0},{"$f":"'[1]Дневной рацион, Дети до 3х лет'!H18","v":0},{"$f":"'[1]Дневной рацион, Дети до 3х лет'!I18","v":0}]
[null,{"$f":"'[1]Дневной рацион, Дети до 3х лет'!D19","v":0},{"$f":"'[1]Дневной рацион, Дети до 3х лет'!E19","v":0},{"$f":"'[1]Дневной рацион, Дети до 3х лет'!F19","v":0},{"$f":"'[1]Дневной рацион, Дети до 3х лет'!G19","v":0},{"$f":"'[1]Дневной рацион, Дети до 3х лет'!H19","v":0},{"$f":"'[1]Дневной рацион, Дети до 3х лет'!I19","v":0}]