{"text_format":"3","workbook":"xlsx","n_sheets":2,"sheets":[" Дети 3-7 лет","Дети до 3-лет"],"not_rendered":{"images":3,"external_links":3},"read":"whole","date_system":"1900"}

{"sheet":" Дети 3-7 лет","index":0,"n_rows":23,"n_cols":7,"rows_kept":23,"merged":[[0,3,0,4]]}
[null," МБДОУ д/с № 362"]
["Прием пищи","Блюдо","Выход","Калорийность","Белки","Жиры","Углеводы"]
["Завтрак",{"$f":"'[2]Дневной рацион, Дети 3-7 лет, '!D4","v":"Омлет паровой  натуральный с маслом ."},{"$f":"'[2]Дневной рацион, Дети 3-7 лет, '!E4","v":128},{"$f":"'[2]Дневной рацион, Дети 3-7 лет, '!G4","v":233.453},{"$f":"'[2]Дневной рацион, Дети 3-7 лет, '!H4","v":12.416},{"$f":"'[2]Дневной рацион, Дети 3-7 лет, '!I4","v":19.033},{"$f":"'[2]Дневной рацион, Дети 3-7 лет, '!J4","v":3.102}]
[null,{"$f":"'[2]Дневной рацион, Дети 3-7 лет, '!D5","v":"Бутерброды  (батон) с маслом ."},{"$f":"'[2]Дневной рацион, Дети 3-7 лет, '!E5","v":33},{"$f":"'[2]Дневной рацион, Дети 3-7 лет, '!G5","v":137.658},{"$f":"'[2]Дневной рацион, Дети 3-7 лет, '!H5","v":1.509},{"$f":"'[2]Дневной рацион, Дети 3-7 лет, '!I5","v":10.372},{"$f":"'[2]Дневной рацион, Дети 3-7 лет, '!J5","v":9.429}]
[null,{"$f":"'[2]Дневной рацион, Дети 3-7 лет, '!D6","v":"Какао с молоком ."},{"$f":"'[2]Дневной рацион, Дети 3-7 лет, '!E6","v":201},{"$f":"'[2]Дневной рацион, Дети 3-7 лет, '!G6","v":107.234},{"$f":"'[2]Дневной рацион, Дети 3-7 лет, '!H6","v":4.623},{"$f":"'[2]Дневной рацион, Дети 3-7 лет, '!I6","v":4.322},{"$f":"'[2]Дневной рацион, Дети 3-7 лет, '!J6","v":12.462}]
[]
["Завтрак №2",{"$f":"'[2]Дневной рацион, Дети 3-7 лет, '!D7","v":"Банан свежий"},{"$f":"'[2]Дневной рацион, Дети 3-7 лет, '!E7","v":0},{"$f":"'[2]Дневной рацион, Дети 3-7 лет, '!F7","v":0}]
[]
["Обед",{"$f":"'[2]Дневной рацион, Дети 3-7 лет, '!D8","v":"Огурец свежий  в нарезке."},{"$f":"'[2]Дневной рацион, Дети 3-7 лет, '!E8","v":0},{"$f":"'[2]Дневной рацион, Дети 3-7 лет, '!F8","v":0}]
[null,{"$f":"'[2]Дневной рацион, Дети 3-7 лет, '!D9","v":"Щи из свежей капусты  с картофелем с мясом и со сметаной."},{"$f":"'[2]Дневной рацион, Дети 3-7 лет, '!E9","v":200},{"$f":"'[2]Дневной рацион, Дети 3-7 лет, '!G9","v":73.56},{"$f":"'[2]Дневной рацион, Дети 3-7 лет, '!H9","v":1.66},{"$f":"'[2]Дневной рацион, Дети 3-7 лет, '!I9","v":4.86},{"$f":"'[2]Дневной рацион, Дети 3-7 лет, '!J9","v":5.8}]
[null,{"$f":"'[2]Дневной рацион, Дети 3-7 лет, '!D10","v":"Печень говяжья по-строгановски."},{"$f":"'[2]Дневной рацион, Дети 3-7 лет, '!E10","v":70},{"$f":"'[2]Дневной рацион, Дети 3-7 лет, '!G10","v":198.66},{"$f":"'[2]Дневной рацион, Дети 3-7 лет, '!H10","v":14.14},{"$f":"'[2]Дневной рацион, Дети 3-7 лет, '!I10","v":13.16},{"$f":"'[2]Дневной рацион, Дети 3-7 лет, '!J10","v":5.6}]
[null,{"$f":"'[2]Дневной рацион, Дети 3-7 лет, '!D11","v":"Макароны отварные с маслом."},{"$f":"'[2]Дневной рацион, Дети 3-7 лет, '!E11","v":111},{"$f":"'[2]Дневной рацион, Дети 3-7 лет, '!G11","v":182.04},{"$f":"'[2]Дневной рацион, Дети 3-7 лет, '!H11","v":4.995},{"$f":"'[2]Дневной рацион, Дети 3-7 лет, '!I11","v":4.533},{"$f":"'[2]Дневной рацион, Дети 3-7 лет, '!J11","v":30.341}]
[null,{"$f":"'[2]Дневной рацион, Дети 3-7 лет, '!D12","v":"Соус сметанный."},{"$f":"'[2]Дневной рацион, Дети 3-7 лет, '!E12","v":30},{"$f":"'[2]Дневной рацион, Дети 3-7 лет, '!G12","v":5.712},{"$f":"'[2]Дневной рацион, Дети 3-7 лет, '!H12","v":0.09},{"$f":"'[2]Дневной рацион, Дети 3-7 лет, '!I12","v":0.507},{"$f":"'[2]Дневной рацион, Дети 3-7 лет, '!J12","v":0.201}]
[null,{"$f":"'[2]Дневной рацион, Дети 3-7 лет, '!D13","v":"Компот из вишни."},{"$f":"'[2]Дневной рацион, Дети 3-7 лет, '!E13","v":198},{"$f":"'[2]Дневной рацион, Дети 3-7 лет, '!G13","v":6.356},{"$f":"'[2]Дневной рацион, Дети 3-7 лет, '!H13","v":0.04},{"$f":"'[2]Дневной рацион, Дети 3-7 лет, '!I13","v":0.02},{"$f":"'[2]Дневной рацион, Дети 3-7 лет, '!J13","v":1.525}]
[null,{"$f":"'[2]Дневной рацион, Дети 3-7 лет, '!D14","v":"Хлеб  пшеничный"},{"$f":"'[2]Дневной рацион, Дети 3-7 лет, '!E14","v":40},{"$f":"'[2]Дневной рацион, Дети 3-7 лет, '!G14","v":0},{"$f":"'[2]Дневной рацион, Дети 3-7 лет, '!H14","v":0},{"$f":"'[2]Дневной рацион, Дети 3-7 лет, '!I14","v":0},{"$f":"'[2]Дневной рацион, Дети 3-7 лет, '!J14","v":0}]
[null,{"$f":"'[2]Дневной рацион, Дети 3-7 лет, '!D15","v":"Хлеб  ржаной"},{"$f":"'[2]Дневной рацион, Дети 3-7 лет, '!E15","v":36},{"$f":"'[2]Дневной рацион, Дети 3-7 лет, '!F15","v":0},{"$f":"'[1]Дневной рацион, Дети 3-7 лет, '!G13","v":0},{"$f":"'[1]Дневной рацион, Дети 3-7 лет, '!H13","v":0},{"$f":"'[1]Дневной рацион, Дети 3-7 лет, '!I13","v":0}]
[]
["Полдник",{"$f":"'[2]Дневной рацион, Дети 3-7 лет, '!D16","v":"Пряники"},{"$f":"'[2]Дневной рацион, Дети 3-7 лет, '!E16","v":70},{"$f":"'[2]Дневной рацион, Дети 3-7 лет, '!G16","v":256.2},{"$f":"'[2]Дневной рацион, Дети 3-7 лет, '!H16","v":4.13},{"$f":"'[2]Дневной рацион, Дети 3-7 лет, '!I16","v":0},{"$f":"'[2]Дневной рацион, Дети 3-7 лет, '!J16","v":52.5}]
[null,{"$f":"'[2]Дневной рацион, Дети 3-7 лет, '!D17","v":"Молоко кипяченое"},{"$f":"'[2]Дневной рацион, Дети 3-7 лет, '!E17","v":180},{"$f":"'[2]Дневной рацион, Дети 3-7 лет, '!G17","v":95.4},{"$f":"'[2]Дневной рацион, Дети 3-7 лет, '!H17","v":5.22},{"$f":"'[2]Дневной рацион, Дети 3-7 лет, '!I17","v":4.5},{"$f":"'[2]Дневной рацион, Дети 3-7 лет, '!J17","v":8.64}]
[]
["Ужин",{"$f":"'[2]Дневной рацион, Дети 3-7 лет, '!D18","v":"Напиток витаминный Витошка ."},{"$f":"'[2]Дневной рацион, Дети 3-7 лет, '!E18","v":186},{"$f":"'[2]Дневной рацион, Дети 3-7 лет, '!G18","v":306.9},{"$f":"'[2]Дневной рацион, Дети 3-7 лет, '!H18","v":0},{"$f":"'[2]Дневной рацион, Дети 3-7 лет, '!I18","v":0},{"$f":"'[2]Дневной рацион, Дети 3-7 лет, '!J18","v":17.67}]
[null,{"$f":"'[2]Дневной рацион, Дети 3-7 лет, '!D19","v":"Хлеб  пшеничный"},{"$f":"'[2]Дневной рацион, Дети 3-7 лет, '!E19","v":20},{"$f":"'[2]Дневной рацион, Дети 3-7 лет, '!G19","v":0},{"$f":"'[2]Дневной рацион, Дети 3-7 лет, '!H19","v":0},{"$f":"'[2]Дневной рацион, Дети 3-7 лет, '!I19","v":0},{"$f":"'[2]Дневной рацион, Дети 3-7 лет, '!J19","v":0}]
[null,{"$f":"'[2]Дневной рацион, Дети 3-7 лет, '!D20","v":"Каша жидкая молочная гречневая"},{"$f":"'[2]Дневной рацион, Дети 3-7 лет, '!E20","v":201},{"$f":"'[2]Дневной рацион, Дети 3-7 лет, '!G20","v":198.186},{"$f":"'[2]Дневной рацион, Дети 3-7 лет, '!H20","v":7.136},{"$f":"'[2]Дневной рацион, Дети 3-7 лет, '!I20","v":6.533},{"$f":"'[2]Дневной рацион, Дети 3-7 лет, '!J20","v":27.839}]

{"sheet":"Дети до 3-лет","index":1,"n_rows":25,"n_cols":7,"rows_kept":25}
[]
[]
["Прием пищи","Блюдо","Выход","Калорийность","Белки","Жиры","Углеводы"]
["Завтрак",{"$f":"'[3]Дневной рацион, Дети до 3х лет'!D4","v":"Омлет паровой  натуральный с маслом ."},{"$f":"'[3]Дневной рацион, Дети до 3х лет'!E4","v":101},{"$f":"'[3]Дневной рацион, Дети до 3х лет'!G4","v":184.209},{"$f":"'[3]Дневной рацион, Дети до 3х лет'!H4","v":9.797},{"$f":"'[3]Дневной рацион, Дети до 3х лет'!I4","v":15.019},{"$f":"'[3]Дневной рацион, Дети до 3х лет'!J4","v":2.449}]
[null,{"$f":"'[3]Дневной рацион, Дети до 3х лет'!D5","v":"Бутерброды  (батон) с маслом ."},{"$f":"'[3]Дневной рацион, Дети до 3х лет'!E5","v":33},{"$f":"'[3]Дневной рацион, Дети до 3х лет'!G5","v":137.658},{"$f":"'[3]Дневной рацион, Дети до 3х лет'!H5","v":1.509},{"$f":"'[3]Дневной рацион, Дети до 3х лет'!I5","v":10.372},{"$f":"'[3]Дневной рацион, Дети до 3х лет'!J5","v":9.429}]
[null,{"$f":"'[3]Дневной рацион, Дети до 3х лет'!D6","v":"Какао с молоком ."},{"$f":"'[3]Дневной рацион, Дети до 3х лет'!E6","v":171},{"$f":"'[3]Дневной рацион, Дети до 3х лет'!G6","v":91.229},{"$f":"'[3]Дневной рацион, Дети до 3х лет'!H6","v":3.933},{"$f":"'[3]Дневной рацион, Дети до 3х лет'!I6","v":3.677},{"$f":"'[3]Дневной рацион, Дети до 3х лет'!J6","v":10.602}]
[]
[null,{"$f":"'[3]Дневной рацион, Дети до 3х лет'!D7","v":"Банан свежий"},{"$f":"'[3]Дневной рацион, Дети до 3х лет'!E7","v":0},{"$f":"'[3]Дневной рацион, Дети до 3х лет'!G7","v":0},{"$f":"'[3]Дневной рацион, Дети до 3х лет'!H7","v":0},{"$f":"'[3]Дневной рацион, Дети до 3х лет'!I7","v":0},{"$f":"'[3]Дневной рацион, Дети до 3х лет'!J7","v":0}]
["Завтрак №2",{"$f":"'[3]Дневной рацион, Дети до 3х лет'!D8","v":"Огурец свежий  в нарезке."},{"$f":"'[3]Дневной рацион, Дети до 3х лет'!E8","v":0},{"$f":"'[3]Дневной рацион, Дети до 3х лет'!G8","v":0},{"$f":"'[3]Дневной рацион, Дети до 3х лет'!H8","v":0},{"$f":"'[3]Дневной рацион, Дети до 3х лет'!I8","v":0},{"$f":"'[3]Дневной рацион, Дети до 3х лет'!J8","v":0}]
[]
[null,{"$f":"'[3]Дневной рацион, Дети до 3х лет'!D9","v":"Щи из свежей капусты  с картофелем с мясом и со сметаной."},{"$f":"'[3]Дневной рацион, Дети до 3х лет'!E9","v":180},{"$f":"'[3]Дневной рацион, Дети до 3х лет'!G9","v":66.204},{"$f":"'[3]Дневной рацион, Дети до 3х лет'!H9","v":1.494},{"$f":"'[3]Дневной рацион, Дети до 3х лет'!I9","v":4.374},{"$f":"'[3]Дневной рацион, Дети до 3х лет'!J9","v":5.22}]
[null,{"$f":"'[3]Дневной рацион, Дети до 3х лет'!D10","v":"Печень говяжья по-строгановски."},{"$f":"'[3]Дневной рацион, Дети до 3х лет'!E10","v":50},{"$f":"'[3]Дневной рацион, Дети до 3х лет'!G10","v":141.9},{"$f":"'[3]Дневной рацион, Дети до 3х лет'!H10","v":10.1},{"$f":"'[3]Дневной рацион, Дети до 3х лет'!I10","v":9.4},{"$f":"'[3]Дневной рацион, Дети до 3х лет'!J10","v":4}]
[null,{"$f":"'[3]Дневной рацион, Дети до 3х лет'!D11","v":"Макароны отварные до 3-х лет  "},{"$f":"'[3]Дневной рацион, Дети до 3х лет'!E11","v":90},{"$f":"'[3]Дневной рацион, Дети до 3х лет'!G11","v":141.66},{"$f":"'[3]Дневной рацион, Дети до 3х лет'!H11","v":3.87},{"$f":"'[3]Дневной рацион, Дети до 3х лет'!I11","v":3.51},{"$f":"'[3]Дневной рацион, Дети до 3х лет'!J11","v":23.58}]
["Обед",{"$f":"'[3]Дневной рацион, Дети до 3х лет'!D12","v":"Соус сметанный."},{"$f":"'[3]Дневной рацион, Дети до 3х лет'!E12","v":20},{"$f":"'[3]Дневной рацион, Дети до 3х лет'!G12","v":3.808},{"$f":"'[3]Дневной рацион, Дети до 3х лет'!H12","v":0.06},{"$f":"'[3]Дневной рацион, Дети до 3х лет'!I12","v":0.338},{"$f":"'[3]Дневной рацион, Дети до 3х лет'!J12","v":0.134}]
[null,{"$f":"'[3]Дневной рацион, Дети до 3х лет'!D13","v":"Компот из вишни."},{"$f":"'[3]Дневной рацион, Дети до 3х лет'!E13","v":178},{"$f":"'[3]Дневной рацион, Дети до 3х лет'!G13","v":5.714},{"$f":"'[3]Дневной рацион, Дети до 3х лет'!H13","v":0.036},{"$f":"'[3]Дневной рацион, Дети до 3х лет'!I13","v":0.018},{"$f":"'[3]Дневной рацион, Дети до 3х лет'!J13","v":1.371}]
[null,{"$f":"'[3]Дневной рацион, Дети до 3х лет'!D14","v":"Хлеб  пшеничный"},{"$f":"'[3]Дневной рацион, Дети до 3х лет'!E14","v":20},{"$f":"'[3]Дневной рацион, Дети до 3х лет'!G14","v":0},{"$f":"'[3]Дневной рацион, Дети до 3х лет'!H14","v":0},{"$f":"'[3]Дневной рацион, Дети до 3х лет'!I14","v":0},{"$f":"'[3]Дневной рацион, Дети до 3х лет'!J14","v":0}]
[null,{"$f":"'[3]Дневной рацион, Дети до 3х лет'!D15","v":"Хлеб  ржаной"},{"$f":"'[3]Дневной рацион, Дети до 3х лет'!E15","v":21},{"$f":"'[3]Дневной рацион, Дети до 3х лет'!G15","v":0},{"$f":"'[3]Дневной рацион, Дети до 3х лет'!H15","v":0},{"$f":"'[3]Дневной рацион, Дети до 3х лет'!I15","v":0},{"$f":"'[3]Дневной рацион, Дети до 3х лет'!J15","v":0}]
[]
["Полдник",{"$f":"'[3]Дневной рацион, Дети до 3х лет'!D16","v":"Пряники"},{"$f":"'[3]Дневной рацион, Дети до 3х лет'!E16","v":47},{"$f":"'[3]Дневной рацион, Дети до 3х лет'!G16","v":172.02},{"$f":"'[3]Дневной рацион, Дети до 3х лет'!H16","v":2.773},{"$f":"'[3]Дневной рацион, Дети до 3х лет'!I16","v":0},{"$f":"'[3]Дневной рацион, Дети до 3х лет'!J16","v":35.25}]
[null,{"$f":"'[3]Дневной рацион, Дети до 3х лет'!D17","v":"Молоко кипяченое"},{"$f":"'[3]Дневной рацион, Дети до 3х лет'!E17","v":170},{"$f":"'[3]Дневной рацион, Дети до 3х лет'!G17","v":90.1},{"$f":"'[3]Дневной рацион, Дети до 3х лет'!H17","v":4.93},{"$f":"'[3]Дневной рацион, Дети до 3х лет'!I17","v":4.25},{"$f":"'[3]Дневной рацион, Дети до 3х лет'!J17","v":8.16}]
[]
["Ужин",{"$f":"'[3]Дневной рацион, Дети до 3х лет'!D18","v":"Напиток витаминный Витошка ."},{"$f":"'[3]Дневной рацион, Дети до 3х лет'!E18","v":175},{"$f":"'[3]Дневной рацион, Дети до 3х лет'!G18","v":288.75},{"$f":"'[3]Дневной рацион, Дети до 3х лет'!H18","v":0},{"$f":"'[3]Дневной рацион, Дети до 3х лет'!I18","v":0},{"$f":"'[3]Дневной рацион, Дети до 3х лет'!J18","v":16.625}]
[null,{"$f":"'[3]Дневной рацион, Дети до 3х лет'!D19","v":"Хлеб  пшеничный"},{"$f":"'[3]Дневной рацион, Дети до 3х лет'!E19","v":20},{"$f":"'[3]Дневной рацион, Дети до 3х лет'!G19","v":0},{"$f":"'[3]Дневной рацион, Дети до 3х лет'!H19","v":0},{"$f":"'[3]Дневной рацион, Дети до 3х лет'!I19","v":0},{"$f":"'[3]Дневной рацион, Дети до 3х лет'!J19","v":0}]
[null,{"$f":"'[3]Дневной рацион, Дети до 3х лет'!D20","v":"Каша жидкая молочная гречневая"},{"$f":"'[3]Дневной рацион, Дети до 3х лет'!E20","v":170},{"$f":"'[3]Дневной рацион, Дети до 3х лет'!G20","v":167.62},{"$f":"'[3]Дневной рацион, Дети до 3х лет'!H20","v":6.035},{"$f":"'[3]Дневной рацион, Дети до 3х лет'!I20","v":5.525},{"$f":"'[3]Дневной рацион, Дети до 3х лет'!J20","v":23.545}]
[null,{"$f":"'[3]Дневной рацион, Дети до 3х лет'!D21","v":0},{"$f":"'[3]Дневной рацион, Дети до 3х лет'!E21","v":0},{"$f":"'[3]Дневной рацион, Дети до 3х лет'!G21","v":0},{"$f":"'[3]Дневной рацион, Дети до 3х лет'!H21","v":0},{"$f":"'[3]Дневной рацион, Дети до 3х лет'!I21","v":0},{"$f":"'[3]Дневной рацион, Дети до 3х лет'!J21","v":0}]